BEGIN:VCALENDAR
VERSION:2.0
PRODID:-//Bangali Events in DC, Maryland and Virginia - ECPv6.15.20//NONSGML v1.0//EN
CALSCALE:GREGORIAN
METHOD:PUBLISH
X-WR-CALNAME:Bangali Events in DC, Maryland and Virginia
X-ORIGINAL-URL:https://www.dmvbanglaevents.com
X-WR-CALDESC:Events for Bangali Events in DC, Maryland and Virginia
REFRESH-INTERVAL;VALUE=DURATION:PT1H
X-Robots-Tag:noindex
X-PUBLISHED-TTL:PT1H
BEGIN:VTIMEZONE
TZID:UTC
BEGIN:STANDARD
TZOFFSETFROM:+0000
TZOFFSETTO:+0000
TZNAME:UTC
DTSTART:20180101T000000
END:STANDARD
END:VTIMEZONE
BEGIN:VEVENT
DTSTART;TZID=UTC:20200125T100000
DTEND;TZID=UTC:20200125T200000
DTSTAMP:20260423T200923
CREATED:20200111T020402Z
LAST-MODIFIED:20200111T020402Z
UID:680-1579946400-1579982400@www.dmvbanglaevents.com
SUMMARY:Anjali DC Saraswati Puja 2020
DESCRIPTION:
URL:https://www.dmvbanglaevents.com/event/anjali-dc-saraswati-puja-2020/
LOCATION:Durga Temple of Virginia\, 8400 Durga Place\, Fairfax Station\, VA\, 22039\, United States
CATEGORIES:সাংস্কৃতিক অনুষ্ঠান
ATTACH;FMTTYPE=image/jpeg:https://www.dmvbanglaevents.com/wp-content/uploads/2020/01/AnjaliDC.jpg
END:VEVENT
BEGIN:VEVENT
DTSTART;TZID=UTC:20200118T160000
DTEND;TZID=UTC:20200118T230000
DTSTAMP:20260423T200923
CREATED:20200111T024035Z
LAST-MODIFIED:20200111T024035Z
UID:692-1579363200-1579388400@www.dmvbanglaevents.com
SUMMARY:ফ্রেন্ডস এন্ড ফ্যামেলী (ডি\,এম\, ভি) পিঠা উৎসব
DESCRIPTION:
URL:https://www.dmvbanglaevents.com/event/%e0%a6%ab%e0%a7%8d%e0%a6%b0%e0%a7%87%e0%a6%a8%e0%a7%8d%e0%a6%a1%e0%a6%b8-%e0%a6%8f%e0%a6%a8%e0%a7%8d%e0%a6%a1-%e0%a6%ab%e0%a7%8d%e0%a6%af%e0%a6%be%e0%a6%ae%e0%a7%87%e0%a6%b2%e0%a7%80-%e0%a6%a1/
LOCATION:South County Middle School\, 8700 Laurel Crest Dr\, Lorton\, VA\, 22079\, United States
CATEGORIES:মেলা,সাংস্কৃতিক অনুষ্ঠান
ATTACH;FMTTYPE=image/jpeg:https://www.dmvbanglaevents.com/wp-content/uploads/2020/01/PithUtshob_AkterBhai.jpg
END:VEVENT
BEGIN:VEVENT
DTSTART;TZID=UTC:20200112T150000
DTEND;TZID=UTC:20200112T220000
DTSTAMP:20260423T200923
CREATED:20200111T021241Z
LAST-MODIFIED:20200111T021502Z
UID:683-1578841200-1578866400@www.dmvbanglaevents.com
SUMMARY:দেশি পিঠা মেলা
DESCRIPTION:
URL:https://www.dmvbanglaevents.com/event/%e0%a6%a6%e0%a7%87%e0%a6%b6%e0%a6%bf-%e0%a6%aa%e0%a6%bf%e0%a6%a0%e0%a6%be-%e0%a6%ae%e0%a7%87%e0%a6%b2%e0%a6%be-2/
LOCATION:Hyatt Regency Hotel\, 2300 Dulles Corner Blvd\, Herndon\, VA\, 20171\, United States
ATTACH;FMTTYPE=image/jpeg:https://www.dmvbanglaevents.com/wp-content/uploads/2020/01/DeshiPithMela2020.jpg
END:VEVENT
BEGIN:VEVENT
DTSTART;TZID=UTC:20191221T170000
DTEND;TZID=UTC:20191221T230000
DTSTAMP:20260423T200923
CREATED:20200111T040718Z
LAST-MODIFIED:20200111T040718Z
UID:729-1576947600-1576969200@www.dmvbanglaevents.com
SUMMARY:বাগডিসির মহান বিজয় দিবস উদযাপন
DESCRIPTION:What: Victory Day\nWhen: On Saturday\, 21st December 2019\nTime: 5pm-11pm\nVenue: Irving Middle School Auditorium\nAddress: 8100 Old Keene Mill Road\, Springfield\, VA 22152
URL:https://www.dmvbanglaevents.com/event/%e0%a6%ac%e0%a6%be%e0%a6%97%e0%a6%a1%e0%a6%bf%e0%a6%b8%e0%a6%bf%e0%a6%b0-%e0%a6%ae%e0%a6%b9%e0%a6%be%e0%a6%a8-%e0%a6%ac%e0%a6%bf%e0%a6%9c%e0%a7%9f-%e0%a6%a6%e0%a6%bf%e0%a6%ac%e0%a6%b8-%e0%a6%89/
LOCATION:Irving Middle School\, 8100 Old Keene Mill Rd\,\, Springfield\, VA\, 22152\, United States
CATEGORIES:সাংস্কৃতিক অনুষ্ঠান
ATTACH;FMTTYPE=image/jpeg:https://www.dmvbanglaevents.com/wp-content/uploads/2020/01/BAGWDC_bijoy.jpg
ORGANIZER;CN="BAGWDC":MAILTO:bagwdc2017@gmail.com
END:VEVENT
BEGIN:VEVENT
DTSTART;TZID=UTC:20191214T080000
DTEND;TZID=UTC:20191214T170000
DTSTAMP:20260423T200923
CREATED:20190302T173330Z
LAST-MODIFIED:20190302T174337Z
UID:653-1576310400-1576342800@www.dmvbanglaevents.com
SUMMARY:BAAI Event
DESCRIPTION:More information coming soon
URL:https://www.dmvbanglaevents.com/event/baai-event/
LOCATION:VA
CATEGORIES:সাংস্কৃতিক অনুষ্ঠান
END:VEVENT
BEGIN:VEVENT
DTSTART;TZID=UTC:20191109T160000
DTEND;TZID=UTC:20191109T180000
DTSTAMP:20260423T200923
CREATED:20190106T162729Z
LAST-MODIFIED:20190106T162729Z
UID:528-1573315200-1573322400@www.dmvbanglaevents.com
SUMMARY:Tenth Anniversary of Tagore Music Group of Greater Washington DC
DESCRIPTION:To celebrate it’s tenth anniversary\, Tagore Music Group of Greater Washington DC will be staging a spectacular show. Please mark your calendars in advance and make sure you stay tuned for more info.
URL:https://www.dmvbanglaevents.com/event/tenth-anniversary-of-tagore-music-group-of-greater-washington-dc/
LOCATION:Bender JCC of Greater Washington\, 6125 Montrose Rd\, Rockville\, MD\, 20852\, United States
CATEGORIES:সাংস্কৃতিক অনুষ্ঠান
ATTACH;FMTTYPE=image/jpeg:https://www.dmvbanglaevents.com/wp-content/uploads/2019/01/tagore.jpg
END:VEVENT
BEGIN:VEVENT
DTSTART;TZID=UTC:20191103T150000
DTEND;TZID=UTC:20191103T180000
DTSTAMP:20260423T200923
CREATED:20190302T170734Z
LAST-MODIFIED:20190302T170734Z
UID:641-1572793200-1572804000@www.dmvbanglaevents.com
SUMMARY:Hridoybeena's Annual Show
DESCRIPTION:More information coming soon.
URL:https://www.dmvbanglaevents.com/event/hridoybeenas-annual-show/
LOCATION:VA
ATTACH;FMTTYPE=image/jpeg:https://www.dmvbanglaevents.com/wp-content/uploads/2019/03/hridoybina.jpg
ORGANIZER;CN="Hridoybeena":MAILTO:hridaybeena@gmail.com
END:VEVENT
BEGIN:VEVENT
DTSTART;TZID=UTC:20191005T100000
DTEND;TZID=UTC:20191005T210000
DTSTAMP:20260423T200923
CREATED:20190106T162138Z
LAST-MODIFIED:20190106T162138Z
UID:525-1570269600-1570309200@www.dmvbanglaevents.com
SUMMARY:Nilachal Durga Puja 2019
DESCRIPTION:We are very excited to invite you to celebrate the Durga Puja festival on Saturday\, Oct 5\, 2019. Please mark your calendar for the 5th Durga puja by Nilachal. This will be grand and more extraordinary than ever before!
URL:https://www.dmvbanglaevents.com/event/nilachal-durga-puja-2019/
LOCATION:TBA\, United States
CATEGORIES:সাংস্কৃতিক অনুষ্ঠান
ATTACH;FMTTYPE=image/jpeg:https://www.dmvbanglaevents.com/wp-content/uploads/2019/01/nilachol19.jpg
END:VEVENT
BEGIN:VEVENT
DTSTART;TZID=UTC:20190928T150000
DTEND;TZID=UTC:20190928T230000
DTSTAMP:20260423T200923
CREATED:20190105T151938Z
LAST-MODIFIED:20190302T162201Z
UID:491-1569682800-1569711600@www.dmvbanglaevents.com
SUMMARY:Pride Achievement Awards 2019
DESCRIPTION:বৃহত্তর ওয়াশিংটনে জুন মাসের ১৫তারিখে আসছে তরুণ প্রজম্মের অনেকশিল্পী। \nএই প্রথমবারের মত ওয়াশিংটন মাতাতে বাংলাদেশ এবং কলকাতা থেকে আসছে ।এছাড়াও অনুষ্ঠানে আরো থাকছে ।\nPride Achievements Awards Coming in june 2019. \n\nVenue : George Mason University Center for the Arts\nAddress : 4373 Mason Pond Dr\, Fairfax\, VA 22030 \nUjjal Hossain \nDC\,MD\,VA \n7032036821
URL:https://www.dmvbanglaevents.com/event/pride-achievement-awards-2019/
LOCATION:George Mason University Center for the Arts\, 4373 Mason Pond Dr\, Fairfax\, VA\, 22030\, United States
CATEGORIES:সাংস্কৃতিক অনুষ্ঠান
END:VEVENT
BEGIN:VEVENT
DTSTART;TZID=UTC:20190907T160000
DTEND;TZID=UTC:20190907T233000
DTSTAMP:20260423T200923
CREATED:20180614T055120Z
LAST-MODIFIED:20190205T120510Z
UID:150-1567872000-1567899000@www.dmvbanglaevents.com
SUMMARY:বাংলা উৎসব ২০১৯
DESCRIPTION:ডিএমভি এলাকার নতুন প্রজন্মের বাঙালি শিশু-কিশোরদের সাংস্কৃতিক পরিবেশনা।
URL:https://www.dmvbanglaevents.com/event/%e0%a6%ac%e0%a6%be%e0%a6%82%e0%a6%b2%e0%a6%be-%e0%a6%89%e0%a7%8e%e0%a6%b8%e0%a6%ac-%e0%a7%a8%e0%a7%a6%e0%a7%a7%e0%a7%ae/
LOCATION:TBA\, United States
ATTACH;FMTTYPE=image/jpeg:https://www.dmvbanglaevents.com/wp-content/uploads/2018/06/bangla-utshob-1.jpg
END:VEVENT
BEGIN:VEVENT
DTSTART;TZID=UTC:20190830T170000
DTEND;TZID=UTC:20190901T233000
DTSTAMP:20260423T200923
CREATED:20190302T181919Z
LAST-MODIFIED:20190302T181953Z
UID:657-1567184400-1567380600@www.dmvbanglaevents.com
SUMMARY:FOBANA Convention 2019
DESCRIPTION:
URL:https://www.dmvbanglaevents.com/event/fobana-convention-2019/
LOCATION:NY\, United States
CATEGORIES:সাংস্কৃতিক অনুষ্ঠান
ATTACH;FMTTYPE=image/jpeg:https://www.dmvbanglaevents.com/wp-content/uploads/2019/03/fobana.jpg
END:VEVENT
BEGIN:VEVENT
DTSTART;TZID=UTC:20190824T170000
DTEND;TZID=UTC:20190824T210000
DTSTAMP:20260423T200923
CREATED:20190530T053549Z
LAST-MODIFIED:20190530T053549Z
UID:669-1566666000-1566680400@www.dmvbanglaevents.com
SUMMARY:Agami Spotlight with Fuad & Friends
DESCRIPTION:Agami is a 501c(3) US non-profit organization\, dedicated to promote education for the underprivileged children in Bangladesh. Agami works with primary and high schools across Bangladesh. In addition to providing basic support to ensure an academically enriching and welcoming environment in these schools\, Agami firmly believes in empowering the lives of the underprivileged children in Bangladesh through education. \nAgami is proud to present Agami Spotlight event with the renowned Bangladeshi music composer\, producer\, and songwriter Fuad and his friends. This will be their first ever show in DMV area! Fuad has been one of the pioneering musicians to introduce a new style of music merging Eastern Sounds with Western beats and remixing. Scores of hit\, like Ekhon Ami\, Nitol Paye\, Jhilmil have ruled the music charts. Coming together\, for this post-eid concert\, is the Maestro and his friends. Do not miss it! \nAgami will also host a local band Kronedge. Their ingrained passion for rock music\, inspired by the pioneers of Bangla rock and metal\, reflect a powerful composition which is original and yet can transcend beyond time and border. \nAgami Southeast Chapter’s fourth fundraising concert will be an unforgettable event. Hurry and book your tickets with the early bird discount rates. See you on August 24\, 2019 \nClick here for tickets.
URL:https://www.dmvbanglaevents.com/event/agami-spotlight-with-fuad-friends/
LOCATION:TBD
ATTACH;FMTTYPE=image/jpeg:https://www.dmvbanglaevents.com/wp-content/uploads/2019/05/fuad.jpg
ORGANIZER;CN="Agami":MAILTO:education@agami.org
END:VEVENT
BEGIN:VEVENT
DTSTART;TZID=UTC:20190705T170000
DTEND;TZID=UTC:20190707T230000
DTSTAMP:20260423T200923
CREATED:20190106T161551Z
LAST-MODIFIED:20190106T161638Z
UID:516-1562346000-1562540400@www.dmvbanglaevents.com
SUMMARY:NABC 2019
DESCRIPTION:North American Bengali Conference – NABC 2019 \nThe event will feature\nSeveral thousand attendees from all across the world\,\nExtensive media coverage on various outlets including TV\, Web\, podcast\, advertisement and other social media avenues to reach thousands more worldwide\,\nBusiness forum on emerging trends and issues\,\nNext Gen forum for the youth\,\nTrade show to showcase a wide variety of products and merchandise from the US\, India\, and Bangladesh\,\nSouth Asian music from all genres – a bouquet of folk\, classical\, contemporary\, and traditional\, band and popular music\, blending that with theater\, stand-up comedy and colorful presentation of dance and choreography\,\nSeminars and workshop on literature and topics\,\nBengali films and drama and related discussion\, and\nMany others. \nClick here ticket information.
URL:https://www.dmvbanglaevents.com/event/nabc-2019/
LOCATION:Baltimore Convention Center\, 1 W Pratt Street\, Baltimore\, MD\, 21201\, United States
CATEGORIES:সাংস্কৃতিক অনুষ্ঠান
ATTACH;FMTTYPE=image/jpeg:https://www.dmvbanglaevents.com/wp-content/uploads/2019/01/nabc19.jpg
ORGANIZER;CN="Sanskriti":MAILTO:info@sanskriti-dc.org
END:VEVENT
BEGIN:VEVENT
DTSTART;TZID=UTC:20190622T120000
DTEND;TZID=UTC:20190623T230000
DTSTAMP:20260423T200923
CREATED:20190126T200506Z
LAST-MODIFIED:20190126T200506Z
UID:555-1561204800-1561330800@www.dmvbanglaevents.com
SUMMARY:ডিসি বইমেলা ২০১৯
DESCRIPTION:
URL:https://www.dmvbanglaevents.com/event/%e0%a6%a1%e0%a6%bf%e0%a6%b8%e0%a6%bf-%e0%a6%ac%e0%a6%87%e0%a6%ae%e0%a7%87%e0%a6%b2%e0%a6%be-%e0%a7%a8%e0%a7%a6%e0%a7%a7%e0%a7%af/
LOCATION:NOVA Community College\, 8333 Little River Tpke\, Annandale\, VA\, 22003\, United States
CATEGORIES:কবিতা,গান,মেলা,সাংস্কৃতিক অনুষ্ঠান,সাহিত্য
ATTACH;FMTTYPE=image/jpeg:https://www.dmvbanglaevents.com/wp-content/uploads/2019/01/dcboimela19.jpg
END:VEVENT
BEGIN:VEVENT
DTSTART;TZID=UTC:20190608T170000
DTEND;TZID=UTC:20190608T223000
DTSTAMP:20260423T200923
CREATED:20190302T162457Z
LAST-MODIFIED:20190302T162457Z
UID:617-1560013200-1560033000@www.dmvbanglaevents.com
SUMMARY:Eid Dhamaka
DESCRIPTION:Information coming soon
URL:https://www.dmvbanglaevents.com/event/eid-dhamaka/
LOCATION:VA
END:VEVENT
BEGIN:VEVENT
DTSTART;TZID=UTC:20190608T080000
DTEND;TZID=UTC:20190608T170000
DTSTAMP:20260423T200923
CREATED:20190302T172504Z
LAST-MODIFIED:20190302T172504Z
UID:649-1559980800-1560013200@www.dmvbanglaevents.com
SUMMARY:BAAI Eid Reunion
DESCRIPTION:More information coming soon
URL:https://www.dmvbanglaevents.com/event/baai-eid-reunion/
LOCATION:VA
END:VEVENT
BEGIN:VEVENT
DTSTART;TZID=UTC:20190504T170000
DTEND;TZID=UTC:20190504T220000
DTSTAMP:20260423T200923
CREATED:20190126T200650Z
LAST-MODIFIED:20190302T174656Z
UID:558-1556989200-1557007200@www.dmvbanglaevents.com
SUMMARY:BAAI এর বৈশাখী জলসা
DESCRIPTION:
URL:https://www.dmvbanglaevents.com/event/baai-%e0%a6%8f%e0%a6%b0-%e0%a6%ac%e0%a7%88%e0%a6%b6%e0%a6%be%e0%a6%96%e0%a7%80-%e0%a6%9c%e0%a6%b2%e0%a6%b8%e0%a6%be/
LOCATION:Cabin John Middle School\, 10701 Gainsborough Rd\, Potomac\, MD\, 20854\, United States
CATEGORIES:গান,নাটক,মেলা,সাংস্কৃতিক অনুষ্ঠান
ATTACH;FMTTYPE=image/jpeg:https://www.dmvbanglaevents.com/wp-content/uploads/2019/01/BAAAI.jpg
END:VEVENT
BEGIN:VEVENT
DTSTART;TZID=UTC:20190504T170000
DTEND;TZID=UTC:20190504T210000
DTSTAMP:20260423T200923
CREATED:20190302T171358Z
LAST-MODIFIED:20190302T171520Z
UID:644-1556989200-1557003600@www.dmvbanglaevents.com
SUMMARY:Baisakhi 2019 by  Sanskriti
DESCRIPTION:An evening of music\, dance\, natok\, adda with moori and cha\, followed by dinner!
URL:https://www.dmvbanglaevents.com/event/baisakhi-2019-by-sanskriti/
LOCATION:Lakelands Park Middle School\, 1200 Main Street\, Gaithersburg\, MD\, 20878\, United States
CATEGORIES:গান,নাটক,সাংস্কৃতিক অনুষ্ঠান
ATTACH;FMTTYPE=image/jpeg:https://www.dmvbanglaevents.com/wp-content/uploads/2019/03/shangskriti.jpg
ORGANIZER;CN="Sanskriti":MAILTO:info@sanskriti-dc.org
END:VEVENT
BEGIN:VEVENT
DTSTART;TZID=UTC:20190427T190000
DTEND;TZID=UTC:20190427T230000
DTSTAMP:20260423T200923
CREATED:20190106T160724Z
LAST-MODIFIED:20190106T160902Z
UID:508-1556391600-1556406000@www.dmvbanglaevents.com
SUMMARY:Boishakher Amontrone - A Musical Show with Shreya Guhathakurta
DESCRIPTION:Mesmerising Musical show with Shreya Guhathakurta along with her students with a spirit of Bengali New Year (Noboborsho). A grand show in the heart of DC. You are all invited.
URL:https://www.dmvbanglaevents.com/event/amazing-musical-show-with-shreya-guhathakurta/
LOCATION:TBA
CATEGORIES:গান
ATTACH;FMTTYPE=image/jpeg:https://www.dmvbanglaevents.com/wp-content/uploads/2019/01/shreya.jpg
END:VEVENT
BEGIN:VEVENT
DTSTART;TZID=UTC:20190427T120000
DTEND;TZID=UTC:20190427T180000
DTSTAMP:20260423T200923
CREATED:20190126T195850Z
LAST-MODIFIED:20190126T200223Z
UID:552-1556366400-1556388000@www.dmvbanglaevents.com
SUMMARY:বাগডিসির পান্তা-ইলিশ
DESCRIPTION:Hello to everyone!\nBAGWDC is officially holding the “Panta-Elish” event for 2019 on Saturday\, April 27th! We invite everyone along with your friends and family to have a fun-filled day featuring live cooking Elish Fry of the Bengali Famous Dish\, Panta Elish! We look forward to seeing you all! \nWhere:\nFort Hunt Park \n(Group picnic area-A-001)\n8999 Fort Hunt Road\nAlexandria\, VA 22308 \n\nWhen:\nSaturday\, April 27\, 2019 \nTime:\n12.00pm to 6.00pm \nBest regards\,\n– Bangladesh Association of Greater Washington DC (BAGWDC)
URL:https://www.dmvbanglaevents.com/event/%e0%a6%ac%e0%a6%be%e0%a6%97%e0%a6%a1%e0%a6%bf%e0%a6%b8%e0%a6%bf%e0%a6%b0-%e0%a6%aa%e0%a6%be%e0%a6%a8%e0%a7%8d%e0%a6%a4%e0%a6%be-%e0%a6%87%e0%a6%b2%e0%a6%bf%e0%a6%b6/
LOCATION:Fort Hunt Park Alexandria\, 8999 Fort Hunt Rd\, Alexandria\, VA\, 22308\, United States
ATTACH;FMTTYPE=image/jpeg:https://www.dmvbanglaevents.com/wp-content/uploads/2019/01/bagwdc19.jpg
ORGANIZER;CN="BAGWDC":MAILTO:bagwdc2017@gmail.com
END:VEVENT
BEGIN:VEVENT
DTSTART;TZID=UTC:20190420T110000
DTEND;TZID=UTC:20190420T190000
DTSTAMP:20260423T200923
CREATED:20190203T181523Z
LAST-MODIFIED:20190302T165327Z
UID:566-1555758000-1555786800@www.dmvbanglaevents.com
SUMMARY:বৈশাখী মেলা ২০১৯
DESCRIPTION:বি সি সি ডি আই – বাংলা স্কুল আয়োজিত-\nবাংলা স্কুলের ছাত্র ছাত্রী \, স্থানীয় শিল্পী আর ব্যান্ডের মনোজ্ঞ পরিবেশনায়\nলোকজ গানে বর্ষবরণ\n২০শে এপ্রিল \,২০১৯\, শনিবার\nসকাল ১১ টা থেকে সন্ধ্যা ৭টা\nম্যাসন ডিস্ট্রিক্ট পার্ক\n৬৬২১ কলম্বিয়া পাইক \, এনানডেল \, ভার্জিনিয়া-২২০০৩ \nষ্টল বুকিংয়ের জন্যে যোগাযোগ করুন\n২০২-৭০৯-১৯৩৬ \, ৫৭১-২৬৫-৭৭৭০
URL:https://www.dmvbanglaevents.com/event/%e0%a6%ac%e0%a7%88%e0%a6%b6%e0%a6%be%e0%a6%96%e0%a7%80-%e0%a6%ae%e0%a7%87%e0%a6%b2%e0%a6%be-%e0%a7%a8%e0%a7%a6%e0%a7%a7%e0%a7%af/
LOCATION:Mason District Park\, 6621 Columbia Pike\, Annandale\, VA\, 22003\, United States
CATEGORIES:মেলা,সাংস্কৃতিক অনুষ্ঠান
ATTACH;FMTTYPE=image/jpeg:https://www.dmvbanglaevents.com/wp-content/uploads/2019/02/bccdi20192.jpg
ORGANIZER;CN="BCCDI":MAILTO:teambccdi@yahoo.com
END:VEVENT
BEGIN:VEVENT
DTSTART;TZID=UTC:20190414T150000
DTEND;TZID=UTC:20190414T210000
DTSTAMP:20260423T200923
CREATED:20190126T194230Z
LAST-MODIFIED:20190126T194230Z
UID:545-1555254000-1555275600@www.dmvbanglaevents.com
SUMMARY:বৈশাখী পিঠা উৎসব
DESCRIPTION:
URL:https://www.dmvbanglaevents.com/event/%e0%a6%ac%e0%a7%88%e0%a6%b6%e0%a6%be%e0%a6%96%e0%a7%80-%e0%a6%aa%e0%a6%bf%e0%a6%a0%e0%a6%be-%e0%a6%89%e0%a7%8e%e0%a6%b8%e0%a6%ac/
LOCATION:Gala Center\, 1700 Hill Dr\, Windsor Mill\, MD\, 21244\, United States
CATEGORIES:গান,মেলা,সাংস্কৃতিক অনুষ্ঠান
ATTACH;FMTTYPE=image/jpeg:https://www.dmvbanglaevents.com/wp-content/uploads/2019/01/fnfbultimor.jpg
END:VEVENT
BEGIN:VEVENT
DTSTART;TZID=UTC:20190413T110000
DTEND;TZID=UTC:20190413T200000
DTSTAMP:20260423T200923
CREATED:20190302T164314Z
LAST-MODIFIED:20190302T165346Z
UID:623-1555153200-1555185600@www.dmvbanglaevents.com
SUMMARY:ফ্রেন্ডস এন্ড ফ্যামিলি (আবু রুমী) বৈশাখী মেলা ১৪২৬
DESCRIPTION:
URL:https://www.dmvbanglaevents.com/event/fnfrumi_boishakhi/
LOCATION:Gateway Park\, 1300 Lee Hwy\, Arlington\, VA\, 22209\, United States
CATEGORIES:মেলা,সাংস্কৃতিক অনুষ্ঠান
ATTACH;FMTTYPE=image/jpeg:https://www.dmvbanglaevents.com/wp-content/uploads/2019/03/fnf_Rumi_Boishakhi.jpg
END:VEVENT
BEGIN:VEVENT
DTSTART;TZID=UTC:20190406T173000
DTEND;TZID=UTC:20190406T233000
DTSTAMP:20260423T200923
CREATED:20190302T142610Z
LAST-MODIFIED:20190302T142943Z
UID:590-1554571800-1554593400@www.dmvbanglaevents.com
SUMMARY:BEST (Bangladeshi Entrepreneurs Society of Talents) Annual Event
DESCRIPTION:LEADERSHIP TODAY FOR TOMORROW\nBEST Networking Event Led by our Next Generation\nSaturday – April 6th\, 2019\nFrom 5:30 PM to Midnight\n \nOrganized and Managed by our Next Generation\n• Keynote Speech by renowned Leaders\n• Creative Ideas – Speed Talking\n• Success Stories\n• Connecting Stories\n• Activism\n• Cultural Show\n• Open Dance\n• Cocktail Reception\n• Formal Dinner \nPlease engage your children\, boost their leadership & organization skills and build a strong network of talented individuals. \nPlease register online: http://bestentrepreneurs.org/registration/
URL:https://www.dmvbanglaevents.com/event/best-bangladeshi-entrepreneurs-society-of-talents-annual-event/
LOCATION:Key Bridge Marriott\, 1401 Lee Hwy\, Arlington\, VA\, 22209\, United States
ATTACH;FMTTYPE=image/jpeg:https://www.dmvbanglaevents.com/wp-content/uploads/2019/03/best2.jpg
END:VEVENT
BEGIN:VEVENT
DTSTART;TZID=UTC:20190406T100000
DTEND;TZID=UTC:20190406T200000
DTSTAMP:20260423T200923
CREATED:20190302T165747Z
LAST-MODIFIED:20190302T165747Z
UID:633-1554544800-1554580800@www.dmvbanglaevents.com
SUMMARY:ফ্রেন্ডস এন্ড ফ্যামিলি (আকতার হোসেইন ) বৈশাখী মেলা ১৪২৬
DESCRIPTION:
URL:https://www.dmvbanglaevents.com/event/fnfakter_boishakh/
LOCATION:Mason District Park\, 6621 Columbia Pike\, Annandale\, VA\, 22003\, United States
ATTACH;FMTTYPE=image/jpeg:https://www.dmvbanglaevents.com/wp-content/uploads/2019/03/fnf_akter_boishakhi.jpg
END:VEVENT
BEGIN:VEVENT
DTSTART;TZID=UTC:20190331T140000
DTEND;TZID=UTC:20190331T220000
DTSTAMP:20260423T200923
CREATED:20190303T131604Z
LAST-MODIFIED:20190303T131604Z
UID:663-1554040800-1554069600@www.dmvbanglaevents.com
SUMMARY:১৪২৬ বৈশাখী মেলা
DESCRIPTION:
URL:https://www.dmvbanglaevents.com/event/boishakhishadesh19/
LOCATION:Holiday Inn Gaithersburg\, 2 Montgomery Village Ave\, Gaithersburg\, MD\, 20879\, United States
CATEGORIES:গান,মেলা,সাংস্কৃতিক অনুষ্ঠান
ATTACH;FMTTYPE=image/jpeg:https://www.dmvbanglaevents.com/wp-content/uploads/2019/03/swadesh.jpg
END:VEVENT
BEGIN:VEVENT
DTSTART;TZID=UTC:20190331T090000
DTEND;TZID=UTC:20190331T100000
DTSTAMP:20260423T200923
CREATED:20190302T170217Z
LAST-MODIFIED:20190302T170547Z
UID:636-1554022800-1554026400@www.dmvbanglaevents.com
SUMMARY:Run for Fun To Celebrate The Independence of Bangladesh
DESCRIPTION:
URL:https://www.dmvbanglaevents.com/event/run-for-fun-to-celebrate-the-independence-of-bangladesh/
LOCATION:Gravelly Point\, George Washington Memorial Parkway\, Arlington\, VA
ATTACH;FMTTYPE=image/jpeg:https://www.dmvbanglaevents.com/wp-content/uploads/2019/03/baai_run.jpg
END:VEVENT
BEGIN:VEVENT
DTSTART;TZID=UTC:20190330T150000
DTEND;TZID=UTC:20190330T210000
DTSTAMP:20260423T200923
CREATED:20181024T060803Z
LAST-MODIFIED:20181024T060803Z
UID:402-1553958000-1553979600@www.dmvbanglaevents.com
SUMMARY:প্রিয়বাংলা চতুরঙ্গ
DESCRIPTION:বিস্তারিত পরে জানানো হবে।
URL:https://www.dmvbanglaevents.com/event/priobanglachoturongo19/
LOCATION:Wakefield High School\, 1325 S Dinwiddie St\, Arlington\, VA\, 22206\, United States
CATEGORIES:সাংস্কৃতিক অনুষ্ঠান
ATTACH;FMTTYPE=image/jpeg:https://www.dmvbanglaevents.com/wp-content/uploads/2018/10/Chaturanga-2019-Poster-V1.jpg
ORGANIZER;CN="%E0%A6%AA%E0%A7%8D%E0%A6%B0%E0%A6%BF%E0%A7%9F%E0%A6%AC%E0%A6%BE%E0%A6%82%E0%A6%B2%E0%A6%BE":MAILTO:info@priobangla.org
END:VEVENT
BEGIN:VEVENT
DTSTART;TZID=UTC:20190324T180000
DTEND;TZID=UTC:20190324T220000
DTSTAMP:20260423T200923
CREATED:20190302T141317Z
LAST-MODIFIED:20190302T141317Z
UID:581-1553450400-1553464800@www.dmvbanglaevents.com
SUMMARY:"নতুন আলোয় রৌদ্রস্নান"  প্রকাশনা উৎসব
DESCRIPTION:
URL:https://www.dmvbanglaevents.com/event/%e0%a6%a8%e0%a6%a4%e0%a7%81%e0%a6%a8-%e0%a6%86%e0%a6%b2%e0%a7%8b%e0%a7%9f-%e0%a6%b0%e0%a7%8c%e0%a6%a6%e0%a7%8d%e0%a6%b0%e0%a6%b8%e0%a7%8d%e0%a6%a8%e0%a6%be%e0%a6%a8-%e0%a6%aa%e0%a7%8d%e0%a6%b0/
LOCATION:Roscoe R Nix Elementary\, 1100 Corliss St\, Silver Spring\, MD\, 20903\, United States
CATEGORIES:সাহিত্য
ATTACH;FMTTYPE=image/jpeg:https://www.dmvbanglaevents.com/wp-content/uploads/2019/03/subir.jpg
END:VEVENT
BEGIN:VEVENT
DTSTART;TZID=UTC:20190323T180000
DTEND;TZID=UTC:20190323T210000
DTSTAMP:20260423T200923
CREATED:20190111T200126Z
LAST-MODIFIED:20190111T201225Z
UID:536-1553364000-1553374800@www.dmvbanglaevents.com
SUMMARY:Independence Day Celebration\, 2019
DESCRIPTION:Dear Community Members\,\nAs a continuation of cultural programs presentation for the past two years\, News-Bangla will celebrate Independence Day of Bangladesh on Saturday\, March 23 again this year from 6:00-9:00 PM. News Bangla plans to present segments of cultural programs this year. We also plan to put a replica Smriti Shoudha (স্মৃতিসৌধ) at the program premise for floral wreath presentation by community members and organizations. This program will be held in Cabin John Middle School in Bethesda\, Maryland (minutes from I-495). Please mark your calendar and stay tuned for detail.\n\nNews-Bangla Inc.
URL:https://www.dmvbanglaevents.com/event/independence-day-celebration-2019/
LOCATION:Cabin John Middle School\, 10701 Gainsborough Rd\, Potomac\, MD\, 20854\, United States
CATEGORIES:সাংস্কৃতিক অনুষ্ঠান
ATTACH;FMTTYPE=image/jpeg:https://www.dmvbanglaevents.com/wp-content/uploads/2019/01/Jatiyo-Smriti-Soudho.jpg
ORGANIZER;CN="News-Bangla Inc":MAILTO:news4bangla@gmail.com
END:VEVENT
END:VCALENDAR