BEGIN:VCALENDAR
VERSION:2.0
PRODID:-//Bangali Events in DC, Maryland and Virginia - ECPv6.15.20//NONSGML v1.0//EN
CALSCALE:GREGORIAN
METHOD:PUBLISH
X-WR-CALNAME:Bangali Events in DC, Maryland and Virginia
X-ORIGINAL-URL:https://www.dmvbanglaevents.com
X-WR-CALDESC:Events for Bangali Events in DC, Maryland and Virginia
REFRESH-INTERVAL;VALUE=DURATION:PT1H
X-Robots-Tag:noindex
X-PUBLISHED-TTL:PT1H
BEGIN:VTIMEZONE
TZID:UTC
BEGIN:STANDARD
TZOFFSETFROM:+0000
TZOFFSETTO:+0000
TZNAME:UTC
DTSTART:20180101T000000
END:STANDARD
END:VTIMEZONE
BEGIN:VEVENT
DTSTART;TZID=UTC:20200531T110000
DTEND;TZID=UTC:20200531T210000
DTSTAMP:20260423T171709
CREATED:20200210T060955Z
LAST-MODIFIED:20200210T061100Z
UID:740-1590922800-1590958800@www.dmvbanglaevents.com
SUMMARY:Maryland FnF বৈশাখী পিঠা উৎসব
DESCRIPTION:
URL:https://www.dmvbanglaevents.com/event/maryland-fnf-%e0%a6%ac%e0%a7%88%e0%a6%b6%e0%a6%be%e0%a6%96%e0%a7%80-%e0%a6%aa%e0%a6%bf%e0%a6%a0%e0%a6%be-%e0%a6%89%e0%a7%8e%e0%a6%b8%e0%a6%ac/
LOCATION:Woodlawn High Ceter Auditorium\, 1801 Woodlawn Dr\, Gwynn Oak\, 21207\, United States
CATEGORIES:গান,মেলা,সাংস্কৃতিক অনুষ্ঠান
ATTACH;FMTTYPE=image/jpeg:https://www.dmvbanglaevents.com/wp-content/uploads/2020/02/fnf_baltimore.jpg
END:VEVENT
BEGIN:VEVENT
DTSTART;TZID=UTC:20200418T110000
DTEND;TZID=UTC:20200418T200000
DTSTAMP:20260423T171709
CREATED:20200309T041654Z
LAST-MODIFIED:20200309T041654Z
UID:820-1587207600-1587240000@www.dmvbanglaevents.com
SUMMARY:বৈশাখী মেলা ১৪২৭ by Friends and Family (Abu Rumi)
DESCRIPTION:
URL:https://www.dmvbanglaevents.com/event/%e0%a6%ac%e0%a7%88%e0%a6%b6%e0%a6%be%e0%a6%96%e0%a7%80-%e0%a6%ae%e0%a7%87%e0%a6%b2%e0%a6%be-%e0%a7%a7%e0%a7%aa%e0%a7%a8%e0%a7%ad-by-friends-and-family-abu-rumi/
LOCATION:Arlington Gateway Park\, 1300 Lee Hwy\, Arlington\, VA 22209
CATEGORIES:গান,সাংস্কৃতিক অনুষ্ঠান
ATTACH;FMTTYPE=image/jpeg:https://www.dmvbanglaevents.com/wp-content/uploads/2020/03/fnf_boishakhi2.jpg
END:VEVENT
BEGIN:VEVENT
DTSTART;TZID=UTC:20200418T110000
DTEND;TZID=UTC:20200418T150000
DTSTAMP:20260423T171709
CREATED:20200309T032912Z
LAST-MODIFIED:20200309T032912Z
UID:786-1587207600-1587222000@www.dmvbanglaevents.com
SUMMARY:পহেলা বৈশাখ by NABA
DESCRIPTION:SATURDAY\, APRIL 18\, 2020 AT 11 AM – 3 PM EDT\n\n\nPoila Boishakh\n\nWashington Kali Bari\, 16126 New Columbia Pike\, Burtonsville\, MD 20866
URL:https://www.dmvbanglaevents.com/event/%e0%a6%aa%e0%a6%b9%e0%a7%87%e0%a6%b2%e0%a6%be-%e0%a6%ac%e0%a7%88%e0%a6%b6%e0%a6%be%e0%a6%96-by-naba/
LOCATION:washington Kali Bari\, 16126 New Columbia Pike\, Burtonsville\, MD 20866
CATEGORIES:গান,সাংস্কৃতিক অনুষ্ঠান
ATTACH;FMTTYPE=image/jpeg:https://www.dmvbanglaevents.com/wp-content/uploads/2020/03/naba.jpg
ORGANIZER;CN="Northern Virginia Bengali Association":MAILTO:novabacommittee@yahoo.com
END:VEVENT
BEGIN:VEVENT
DTSTART;TZID=UTC:20200414T070000
DTEND;TZID=UTC:20200414T230000
DTSTAMP:20260423T171709
CREATED:20200309T041222Z
LAST-MODIFIED:20200309T041222Z
UID:817-1586847600-1586905200@www.dmvbanglaevents.com
SUMMARY:প্রভাতী বর্ষবরণ by Friends and Family (Abu Rumi)
DESCRIPTION:
URL:https://www.dmvbanglaevents.com/event/%e0%a6%aa%e0%a7%8d%e0%a6%b0%e0%a6%ad%e0%a6%be%e0%a6%a4%e0%a7%80-%e0%a6%ac%e0%a6%b0%e0%a7%8d%e0%a6%b7%e0%a6%ac%e0%a6%b0%e0%a6%a3-by-friends-and-family-abu-rumi/
LOCATION:Mason District Park\, 6621 Columbia Pike\, Annandale\, VA\, 22003\, United States
CATEGORIES:গান,মেলা,সাংস্কৃতিক অনুষ্ঠান
ATTACH;FMTTYPE=image/jpeg:https://www.dmvbanglaevents.com/wp-content/uploads/2020/03/fnf_boishakhi.jpg
END:VEVENT
BEGIN:VEVENT
DTSTART;TZID=UTC:20200412T150000
DTEND;TZID=UTC:20200412T150000
DTSTAMP:20260423T171709
CREATED:20200309T032309Z
LAST-MODIFIED:20200309T032309Z
UID:777-1586703600-1586703600@www.dmvbanglaevents.com
SUMMARY:Notee Binodini
DESCRIPTION:SUNDAY\, APRIL 12\, 2020 AT 3 PM EDT\n\n\n\nFor more information and tickets\, please contact\nRoopa Biswas: 216-374-6168\nDipannita Dutta 240-888-4213\nKumkum Bagchi 240-491-7800\nRima Acharyya 571-447-6694\nJogabrata Majumdar 301-528- 5515
URL:https://www.dmvbanglaevents.com/event/notee-binodini/
LOCATION:Rockville Civic Center Auditorium\, 603 Edmonston Drive\, Rockville\, MD 20851
ATTACH;FMTTYPE=image/jpeg:https://www.dmvbanglaevents.com/wp-content/uploads/2020/03/noti.jpg
END:VEVENT
BEGIN:VEVENT
DTSTART;TZID=UTC:20200411T170000
DTEND;TZID=UTC:20200411T220000
DTSTAMP:20260423T171709
CREATED:20200210T055122Z
LAST-MODIFIED:20200210T055122Z
UID:734-1586624400-1586642400@www.dmvbanglaevents.com
SUMMARY:BAAI বৈশাখী জলসা
DESCRIPTION:
URL:https://www.dmvbanglaevents.com/event/baai-%e0%a6%ac%e0%a7%88%e0%a6%b6%e0%a6%be%e0%a6%96%e0%a7%80-%e0%a6%9c%e0%a6%b2%e0%a6%b8%e0%a6%be/
LOCATION:Cabin John Middle School\, 10701 Gainsborough Rd\, Potomac\, MD\, 20854\, United States
CATEGORIES:গান,মেলা,সাংস্কৃতিক অনুষ্ঠান
ATTACH;FMTTYPE=image/jpeg:https://www.dmvbanglaevents.com/wp-content/uploads/2020/02/BAAI-pohela.jpg
END:VEVENT
BEGIN:VEVENT
DTSTART;TZID=UTC:20200411T110000
DTEND;TZID=UTC:20200411T180000
DTSTAMP:20260423T171709
CREATED:20200111T034223Z
LAST-MODIFIED:20200210T062937Z
UID:714-1586602800-1586628000@www.dmvbanglaevents.com
SUMMARY:Pohela Boishakh By BCCDI Bangla School
DESCRIPTION:
URL:https://www.dmvbanglaevents.com/event/pohela-boishakh-by-bccdi-bangla-school/
LOCATION:Mason District Park\, 6621 Columbia Pike\, Annandale\, VA\, 22003\, United States
CATEGORIES:গান,সাংস্কৃতিক অনুষ্ঠান
ATTACH;FMTTYPE=image/jpeg:https://www.dmvbanglaevents.com/wp-content/uploads/2020/01/bccdi.jpg
ORGANIZER;CN="BCCDI":MAILTO:teambccdi@yahoo.com
END:VEVENT
BEGIN:VEVENT
DTSTART;TZID=UTC:20200404T110000
DTEND;TZID=UTC:20200404T190000
DTSTAMP:20260423T171709
CREATED:20200210T055634Z
LAST-MODIFIED:20200210T055817Z
UID:737-1585998000-1586026800@www.dmvbanglaevents.com
SUMMARY:Friends & Family (DC\, MD\, VA) বৈশাখী মেলা
DESCRIPTION:
URL:https://www.dmvbanglaevents.com/event/friends-family-dc-md-va-%e0%a6%ac%e0%a7%88%e0%a6%b6%e0%a6%be%e0%a6%96%e0%a7%80-%e0%a6%ae%e0%a7%87%e0%a6%b2%e0%a6%be/
LOCATION:Mason District Park\, 6621 Columbia Pike\, Annandale\, VA\, 22003\, United States
CATEGORIES:গান,মেলা,সাংস্কৃতিক অনুষ্ঠান
ATTACH;FMTTYPE=image/jpeg:https://www.dmvbanglaevents.com/wp-content/uploads/2020/02/FNF_Akter-Bhai_Pohela.jpg
END:VEVENT
BEGIN:VEVENT
DTSTART;TZID=UTC:20200329T143000
DTEND;TZID=UTC:20200329T170000
DTSTAMP:20260423T171709
CREATED:20200309T031019Z
LAST-MODIFIED:20200309T031739Z
UID:771-1585492200-1585501200@www.dmvbanglaevents.com
SUMMARY:গানের ভেলায় বেলা অবেলায়
DESCRIPTION:SUNDAY\, MARCH 29\, 2020 AT 2:30 PM EDT\n\n\nBells Mill Elementary
URL:https://www.dmvbanglaevents.com/event/%e0%a6%97%e0%a6%be%e0%a6%a8%e0%a7%87%e0%a6%b0-%e0%a6%ad%e0%a7%87%e0%a6%b2%e0%a6%be%e0%a7%9f-%e0%a6%ac%e0%a7%87%e0%a6%b2%e0%a6%be-%e0%a6%85%e0%a6%ac%e0%a7%87%e0%a6%b2%e0%a6%be%e0%a7%9f/
LOCATION:Bells Mill Elementary\, 8225 Bells Mill Rd. Potomac\, MD 20854
CATEGORIES:গান,সাংস্কৃতিক অনুষ্ঠান
ATTACH;FMTTYPE=image/jpeg:https://www.dmvbanglaevents.com/wp-content/uploads/2020/03/surer-murchona.jpg
END:VEVENT
BEGIN:VEVENT
DTSTART;TZID=UTC:20200328T180000
DTEND;TZID=UTC:20200328T235500
DTSTAMP:20260423T171709
CREATED:20200309T030530Z
LAST-MODIFIED:20200309T030530Z
UID:766-1585418400-1585439700@www.dmvbanglaevents.com
SUMMARY:BIDROHO'S 2nd Year Anniversary
DESCRIPTION:SATURDAY\, MARCH 28\, 2020 AT 6 PM – 11:55 PM EDT\n\n\nBIDROHO’S 2nd Year Anniversary\n\n2141 Briggs Chaney Rd\, Silver Spring\, MD 20905-4460\, United States\n\n\nHello everyone\,\nAs you can see Bidroho is touching another milestone to their journey\, even though it’s not very long\, the journey of two years had been rather wonderful and elegant..\nDuring our journey\, you all have been really supportive and stayed beside us that helped us grow in our society. This is why\, we’re coming back with another musical evening with all of you as like the 1st one last year.\nHere are some important details about the event:\n1. The event is free and INVITE ONLY\, especially for our friends\, families\, well-wishers and supporters. Just come over and enjoy a rocking evening with Bidroho.\n2. Our 1st anniversary was basically an open stage event for newer and raw talents who enjoyed the opportunity to present themselves in front of the society. This time\, we will be collaborating with few guest artists. They will play\, sing or participate in our tracks and make it unique. Sounds fun\, right? Don’t miss it.\n\n3. The door will be opened at 6p.m. We’ll start at 7p.m. sharp. Please arrive on time if you wanna enjoy every segment of the event. We assure\, you don’t wanna miss it.\n4. Parking will not be an issue. You can park inside and outside near the property. But make sure you are not blocking any spot for others for your own advantage. We will have volunteers taking care of that.\n5. There will be light refreshments and drinks for adults. Make sure you trash the plates\, papers\, spoons\, bottles etc. at the designated trash bags.\n6. There will be portable toilets. It will have lights\, napkins and other stuffs necessary\, make sure not to misuse the property. The event will be at a house that is detached from the main building. We have NO ACCESS to the internal restrooms there. So\, you have to use the portable restrooms or take necessary actions before you arrive.\n\nLooking forward to having each and everyone of you at our anniversary celebration. We will perform some of the rock numbers from Artcell\, Warfaze\, LRB\, Black\, James\, Miles etc. And there will also be a surprise track from Bidroho later on. Stay tuned and come over if this is enough to excite you all towards it \nWe are Bidroho.. We are the wind of change.\n\nSee you all on 28th.\n#BIDROHO_ARMY \nSee Less
URL:https://www.dmvbanglaevents.com/event/bidrohos-2nd-year-anniversary/
CATEGORIES:গান
ATTACH;FMTTYPE=image/jpeg:https://www.dmvbanglaevents.com/wp-content/uploads/2020/03/bidroho.jpg
END:VEVENT
BEGIN:VEVENT
DTSTART;TZID=UTC:20200328T110000
DTEND;TZID=UTC:20200328T210000
DTSTAMP:20260423T171709
CREATED:20200111T033557Z
LAST-MODIFIED:20200111T033557Z
UID:711-1585393200-1585429200@www.dmvbanglaevents.com
SUMMARY:BAGWDC Independence Day
DESCRIPTION:
URL:https://www.dmvbanglaevents.com/event/bagwdc-independence-day/
LOCATION:TBD
CATEGORIES:কবিতা,গান,সাংস্কৃতিক অনুষ্ঠান
ATTACH;FMTTYPE=image/jpeg:https://www.dmvbanglaevents.com/wp-content/uploads/2020/01/BAGWDC.jpg
ORGANIZER;CN="BAGWDC":MAILTO:bagwdc2017@gmail.com
END:VEVENT
BEGIN:VEVENT
DTSTART;TZID=UTC:20200328T063000
DTEND;TZID=UTC:20200328T210000
DTSTAMP:20260423T171709
CREATED:20200309T025448Z
LAST-MODIFIED:20200309T060812Z
UID:763-1585377000-1585429200@www.dmvbanglaevents.com
SUMMARY:স্বাধীনতা দিবস উদযাপন\, মাটিরে আমার-৪
DESCRIPTION:SATURDAY\, MARCH 28\, 2020 AT 6:30 PM – 9 PM EDT\n\n\nIndependent Day Celebration: স্বাধীনতা দিবস উদযাপন
URL:https://www.dmvbanglaevents.com/event/newsbanglaevent2020/
LOCATION:Cabin John Middle School\, 10701 Gainsborough Rd\, Potomac\, MD\, 20854\, United States
ATTACH;FMTTYPE=image/jpeg:https://www.dmvbanglaevents.com/wp-content/uploads/2020/03/newsBangla.jpg
ORGANIZER;CN="News-Bangla Inc":MAILTO:news4bangla@gmail.com
END:VEVENT
BEGIN:VEVENT
DTSTART;TZID=UTC:20200321T120000
DTEND;TZID=UTC:20200321T183000
DTSTAMP:20260423T171709
CREATED:20200111T031934Z
LAST-MODIFIED:20200111T031934Z
UID:702-1584792000-1584815400@www.dmvbanglaevents.com
SUMMARY:বঙ্গবন্ধুর জন্মশতবার্ষিকী
DESCRIPTION:
URL:https://www.dmvbanglaevents.com/event/%e0%a6%ac%e0%a6%99%e0%a7%8d%e0%a6%97%e0%a6%ac%e0%a6%a8%e0%a7%8d%e0%a6%a7%e0%a7%81%e0%a6%b0-%e0%a6%9c%e0%a6%a8%e0%a7%8d%e0%a6%ae%e0%a6%b6%e0%a6%a4%e0%a6%ac%e0%a6%be%e0%a6%b0%e0%a7%8d%e0%a6%b7%e0%a6%bf/
CATEGORIES:সাংস্কৃতিক অনুষ্ঠান
ATTACH;FMTTYPE=image/jpeg:https://www.dmvbanglaevents.com/wp-content/uploads/2020/01/bongobondhu.jpg
END:VEVENT
BEGIN:VEVENT
DTSTART;TZID=UTC:20200314T190000
DTEND;TZID=UTC:20200314T223000
DTSTAMP:20260423T171709
CREATED:20200210T061623Z
LAST-MODIFIED:20200210T061623Z
UID:745-1584212400-1584225000@www.dmvbanglaevents.com
SUMMARY:Infusion Concert
DESCRIPTION:INFUSION is a collective of diverse musicians working together to meld Southeast Asian and Western musical traditions. Infusion re-imagines famous Bangladeshi pieces through a modernist lens\, marshaling traditional instrumentation and cutting-edge technology to create a sound that is simultaneously unique and wonderfully familiar. \nTEAM:\nInfusion comprises a huge array of musicians: 8 singers and 5 guitarists share the stage with synthesizers\, drums\, tabla\, bass\, sitar\, and flute. While the musicians hail from different regions and are steeped in disparate musical traditions\, together they generate a distinct and coherent sound. \nSET LIST:\nFor this show\, Infusion primarily will perform famous Bangladeshi songs in the area of folk\, classical\, melodious\, rock and other traditional genre’s while touching upon a few famous English and Indian songs as well. \nOne thing’s for sure: whenever you’re watching and listening to Infusion\, you’re experiencing something altogether new on the world stage. \nThe band is extremely excited to be performing at the State Theater and we hope it will be an unforgettable showcase featuring an engaging blend of sounds\, cultures\, languages\, and creative lighting entertainment and we hope music lovers from all walks of life will come and share this experience. \nPlease RSVP for this event to get all the updates (including teaser videos!). \nDON’T MISS THIS AWESOME SHOW…..WE HOPE TO SEE YOU ALL THERE!INFUSION \n  \nTicket Lingk: https://order.ticketalternative.com/cgi-bin/ncommerce3/SEGetEventInfo?ticketCode=GS%3ASTATE%3AST20%3AINF0314%3A&linkID=ta-tst&shopperContext&pc&caller&appCode&groupCode=ST&cgc&fbclid=IwAR20eIFkn0o5kdN9DttpOLHKz0Bd0sfyYq9Q_Eg4Q_F37FQUUKDXpn08A30
URL:https://www.dmvbanglaevents.com/event/infusion-concert/
LOCATION:The State Theatre\, 220 N Washington St\, Falls Church\, Virginia 22046
CATEGORIES:গান,সাংস্কৃতিক অনুষ্ঠান
ATTACH;FMTTYPE=image/jpeg:https://www.dmvbanglaevents.com/wp-content/uploads/2020/02/infusion.jpg
ORGANIZER;CN="Infusion":MAILTO:infusiongrooves@gmail.com
END:VEVENT
BEGIN:VEVENT
DTSTART;TZID=UTC:20200306T183000
DTEND;TZID=UTC:20200306T230000
DTSTAMP:20260423T171709
CREATED:20200309T042807Z
LAST-MODIFIED:20200309T042807Z
UID:825-1583519400-1583535600@www.dmvbanglaevents.com
SUMMARY:নজরুল সংগীতের আসর
DESCRIPTION:রংতুলির এবারের পরিবেশনা\,\nঅনুপ বড়ুয়ার কণ্ঠে নজরুল গীতি\, কিছু রাগ ভিত্তিক বাংলা গান এবং গজল।\nঅদিতি এবং সুবর্ণার বিশেষ পরিবেশনা “যদি আর বাঁশি না বাজে”।\nএই সন্ধ্যায় আপনারা সবাই আমন্ত্রিত। Ticket $5.00\nTabla: Tapan Modak (NY)\nKeyboard: Repon (NY)\nPlease mark your calendar on March 6th 2020 Friday from 7:30 PM to 11.00 PM
URL:https://www.dmvbanglaevents.com/event/%e0%a6%a8%e0%a6%9c%e0%a6%b0%e0%a7%81%e0%a6%b2-%e0%a6%b8%e0%a6%82%e0%a6%97%e0%a7%80%e0%a6%a4%e0%a7%87%e0%a6%b0-%e0%a6%86%e0%a6%b8%e0%a6%b0/
LOCATION:Holiday Inn Express\, 6401 Brandon Ave\, Springfield\, 22150\, United States
CATEGORIES:গান
ATTACH;FMTTYPE=image/jpeg:https://www.dmvbanglaevents.com/wp-content/uploads/2020/03/rongtuli.jpg
END:VEVENT
BEGIN:VEVENT
DTSTART;TZID=UTC:20200228T203000
DTEND;TZID=UTC:20200228T230000
DTSTAMP:20260423T171709
CREATED:20200309T044045Z
LAST-MODIFIED:20200309T044045Z
UID:831-1582921800-1582930800@www.dmvbanglaevents.com
SUMMARY:Farzana CLARA Presents "গন্ডি"
DESCRIPTION:Farzana CLARA Presents\n\nFebruary 28 at 8:19 PM · \n\n\n\n\n\n\n\n\n\nOfficial poster of the event
URL:https://www.dmvbanglaevents.com/event/farzana-clara-presents-%e0%a6%97%e0%a6%a8%e0%a7%8d%e0%a6%a1%e0%a6%bf/
ATTACH;FMTTYPE=image/jpeg:https://www.dmvbanglaevents.com/wp-content/uploads/2020/03/gondi.jpg
END:VEVENT
BEGIN:VEVENT
DTSTART;TZID=UTC:20200222T180000
DTEND;TZID=UTC:20200222T210000
DTSTAMP:20260423T171709
CREATED:20200111T032759Z
LAST-MODIFIED:20200111T032759Z
UID:705-1582394400-1582405200@www.dmvbanglaevents.com
SUMMARY:ডিসি একুশে এলায়েন্স আয়োজিত অমর একুশে উদযাপন অনুষ্ঠান
DESCRIPTION:আগামী ২২ শে ফেব্রুয়ারী\, ২০২০ শনিবার সন্ধ্যা ৬ টায় অনুষ্ঠিত হতে যাচ্ছে ডি\, সি\, একুশে এলায়েন্স আয়োজিত অমর একুশে উদযাপন অনুষ্ঠান। এবারের অনুষ্ঠানের সার্বিক দায়িত্বে রয়েছে প্রিয় বাংলা\, ইনক্। বরাবরের মত এবারও ডি\, সি\, মেট্রো এরিয়ার প্রায় ২০ টি সংগঠন এতে অংশ নেবে।
URL:https://www.dmvbanglaevents.com/event/%e0%a6%a1%e0%a6%bf%e0%a6%b8%e0%a6%bf-%e0%a6%8f%e0%a6%95%e0%a7%81%e0%a6%b6%e0%a7%87-%e0%a6%8f%e0%a6%b2%e0%a6%be%e0%a7%9f%e0%a7%87%e0%a6%a8%e0%a7%8d%e0%a6%b8-%e0%a6%86%e0%a7%9f%e0%a7%8b%e0%a6%9c/
LOCATION:Thomas Jefferson Middle School\, 125 South Old Glebe Road Arlington\, VA 22204
CATEGORIES:কবিতা,গান,নাটক,সাংস্কৃতিক অনুষ্ঠান
ATTACH;FMTTYPE=image/jpeg:https://www.dmvbanglaevents.com/wp-content/uploads/2020/01/dcea.jpg
END:VEVENT
BEGIN:VEVENT
DTSTART;TZID=UTC:20200210T080000
DTEND;TZID=UTC:20200210T170000
DTSTAMP:20260423T171709
CREATED:20200210T062153Z
LAST-MODIFIED:20200210T062153Z
UID:752-1581321600-1581354000@www.dmvbanglaevents.com
SUMMARY:Valentine's Day Celebration 2020
DESCRIPTION:Program Name : The 2nd Valentine’s Celebration (Love Forever) \nEntry Fee :\nSingle Entry $20\nCouple Entry : $40\nFamily 4 Members $ 50 (Additional $10 each)\nPay By PayPal\nsyedazad07@gmail.com \nOrganise By\nTushar Rahaman : 571-723-3243\nHasnath Sany : 313-899-0632\nHaowa Begum : 703-473-3427\nAbu Sarkar :646-515-9318\nShuab Khan :703-936-3733\nMohammed Alamgir :571-501-5897 \nMedia & Advertising Partner By : Asho Gaan Suni 571-523-8417
URL:https://www.dmvbanglaevents.com/event/valentines-day-celebration-2020/
CATEGORIES:গান,সাংস্কৃতিক অনুষ্ঠান
ATTACH;FMTTYPE=image/jpeg:https://www.dmvbanglaevents.com/wp-content/uploads/2020/02/val.jpg
END:VEVENT
BEGIN:VEVENT
DTSTART;TZID=UTC:20200201T180000
DTEND;TZID=UTC:20200201T235900
DTSTAMP:20260423T171709
CREATED:20200111T022821Z
LAST-MODIFIED:20200111T022821Z
UID:689-1580580000-1580601540@www.dmvbanglaevents.com
SUMMARY:ফ্রেন্ডস এন্ড ফ্যামিলি পিঠা উৎসব
DESCRIPTION:
URL:https://www.dmvbanglaevents.com/event/%e0%a6%ab%e0%a7%8d%e0%a6%b0%e0%a7%87%e0%a6%a8%e0%a7%8d%e0%a6%a1%e0%a6%b8-%e0%a6%8f%e0%a6%a8%e0%a7%8d%e0%a6%a1-%e0%a6%ab%e0%a7%8d%e0%a6%af%e0%a6%be%e0%a6%ae%e0%a6%bf%e0%a6%b2%e0%a6%bf-%e0%a6%aa/
LOCATION:Freedom High School\, 15201 Neabsco Mills Rd\, Woodbridge\, VA\, 22191\, United States
ATTACH;FMTTYPE=image/jpeg:https://www.dmvbanglaevents.com/wp-content/uploads/2020/01/PithUtshob_RumiBhai.jpg
END:VEVENT
BEGIN:VEVENT
DTSTART;TZID=UTC:20200125T160000
DTEND;TZID=UTC:20200125T230000
DTSTAMP:20260423T171709
CREATED:20200111T024900Z
LAST-MODIFIED:20200111T024900Z
UID:697-1579968000-1579993200@www.dmvbanglaevents.com
SUMMARY:বাংলা স্কুল পিঠা উৎসব
DESCRIPTION:২৫ শে জানুয়ারী শনিবার — ওয়াশিংটনের সবচেয়ে সাড়া জাগানো\nবাংলা স্কুল আয়োজিত ১৪ তম পিঠা উৎসব\n“মাঘের পিঠার সুবাসে মন ভরুক আনন্দে”\nঅপরাহ্ন ৪টা থেকে রাত ১১ টা\nবছরের সেরা সাংস্কৃতিক অনুষ্ট্র্যানের অঙ্গীকার\n_________________________________\nGlasgow Middle School\n4101 Fairfax Pkwy\, Alexandria\, VA 22312\nCentral Location—Access From Arlington\, Alexandria\, (DMV) I- 395 & I-495\nFREE ENTRANCE
URL:https://www.dmvbanglaevents.com/event/%e0%a6%ac%e0%a6%be%e0%a6%82%e0%a6%b2%e0%a6%be-%e0%a6%b8%e0%a7%8d%e0%a6%95%e0%a7%81%e0%a6%b2-%e0%a6%aa%e0%a6%bf%e0%a6%a0%e0%a6%be-%e0%a6%89%e0%a7%8e%e0%a6%b8%e0%a6%ac/
LOCATION:Glasgow Middle School\, 4101 Fairfax Pkwy\, Alexandria\, VA 22312
CATEGORIES:মেলা,সাংস্কৃতিক অনুষ্ঠান
ATTACH;FMTTYPE=image/jpeg:https://www.dmvbanglaevents.com/wp-content/uploads/2020/01/BanglaSchoolPitha.jpg
END:VEVENT
BEGIN:VEVENT
DTSTART;TZID=UTC:20200125T100000
DTEND;TZID=UTC:20200125T200000
DTSTAMP:20260423T171709
CREATED:20200111T020402Z
LAST-MODIFIED:20200111T020402Z
UID:680-1579946400-1579982400@www.dmvbanglaevents.com
SUMMARY:Anjali DC Saraswati Puja 2020
DESCRIPTION:
URL:https://www.dmvbanglaevents.com/event/anjali-dc-saraswati-puja-2020/
LOCATION:Durga Temple of Virginia\, 8400 Durga Place\, Fairfax Station\, VA\, 22039\, United States
CATEGORIES:সাংস্কৃতিক অনুষ্ঠান
ATTACH;FMTTYPE=image/jpeg:https://www.dmvbanglaevents.com/wp-content/uploads/2020/01/AnjaliDC.jpg
END:VEVENT
BEGIN:VEVENT
DTSTART;TZID=UTC:20200118T160000
DTEND;TZID=UTC:20200118T230000
DTSTAMP:20260423T171709
CREATED:20200111T024035Z
LAST-MODIFIED:20200111T024035Z
UID:692-1579363200-1579388400@www.dmvbanglaevents.com
SUMMARY:ফ্রেন্ডস এন্ড ফ্যামেলী (ডি\,এম\, ভি) পিঠা উৎসব
DESCRIPTION:
URL:https://www.dmvbanglaevents.com/event/%e0%a6%ab%e0%a7%8d%e0%a6%b0%e0%a7%87%e0%a6%a8%e0%a7%8d%e0%a6%a1%e0%a6%b8-%e0%a6%8f%e0%a6%a8%e0%a7%8d%e0%a6%a1-%e0%a6%ab%e0%a7%8d%e0%a6%af%e0%a6%be%e0%a6%ae%e0%a7%87%e0%a6%b2%e0%a7%80-%e0%a6%a1/
LOCATION:South County Middle School\, 8700 Laurel Crest Dr\, Lorton\, VA\, 22079\, United States
CATEGORIES:মেলা,সাংস্কৃতিক অনুষ্ঠান
ATTACH;FMTTYPE=image/jpeg:https://www.dmvbanglaevents.com/wp-content/uploads/2020/01/PithUtshob_AkterBhai.jpg
END:VEVENT
BEGIN:VEVENT
DTSTART;TZID=UTC:20200112T150000
DTEND;TZID=UTC:20200112T220000
DTSTAMP:20260423T171709
CREATED:20200111T021241Z
LAST-MODIFIED:20200111T021502Z
UID:683-1578841200-1578866400@www.dmvbanglaevents.com
SUMMARY:দেশি পিঠা মেলা
DESCRIPTION:
URL:https://www.dmvbanglaevents.com/event/%e0%a6%a6%e0%a7%87%e0%a6%b6%e0%a6%bf-%e0%a6%aa%e0%a6%bf%e0%a6%a0%e0%a6%be-%e0%a6%ae%e0%a7%87%e0%a6%b2%e0%a6%be-2/
LOCATION:Hyatt Regency Hotel\, 2300 Dulles Corner Blvd\, Herndon\, VA\, 20171\, United States
ATTACH;FMTTYPE=image/jpeg:https://www.dmvbanglaevents.com/wp-content/uploads/2020/01/DeshiPithMela2020.jpg
END:VEVENT
BEGIN:VEVENT
DTSTART;TZID=UTC:20191221T170000
DTEND;TZID=UTC:20191221T230000
DTSTAMP:20260423T171709
CREATED:20200111T040718Z
LAST-MODIFIED:20200111T040718Z
UID:729-1576947600-1576969200@www.dmvbanglaevents.com
SUMMARY:বাগডিসির মহান বিজয় দিবস উদযাপন
DESCRIPTION:What: Victory Day\nWhen: On Saturday\, 21st December 2019\nTime: 5pm-11pm\nVenue: Irving Middle School Auditorium\nAddress: 8100 Old Keene Mill Road\, Springfield\, VA 22152
URL:https://www.dmvbanglaevents.com/event/%e0%a6%ac%e0%a6%be%e0%a6%97%e0%a6%a1%e0%a6%bf%e0%a6%b8%e0%a6%bf%e0%a6%b0-%e0%a6%ae%e0%a6%b9%e0%a6%be%e0%a6%a8-%e0%a6%ac%e0%a6%bf%e0%a6%9c%e0%a7%9f-%e0%a6%a6%e0%a6%bf%e0%a6%ac%e0%a6%b8-%e0%a6%89/
LOCATION:Irving Middle School\, 8100 Old Keene Mill Rd\,\, Springfield\, VA\, 22152\, United States
CATEGORIES:সাংস্কৃতিক অনুষ্ঠান
ATTACH;FMTTYPE=image/jpeg:https://www.dmvbanglaevents.com/wp-content/uploads/2020/01/BAGWDC_bijoy.jpg
ORGANIZER;CN="BAGWDC":MAILTO:bagwdc2017@gmail.com
END:VEVENT
BEGIN:VEVENT
DTSTART;TZID=UTC:20191214T080000
DTEND;TZID=UTC:20191214T170000
DTSTAMP:20260423T171709
CREATED:20190302T173330Z
LAST-MODIFIED:20190302T174337Z
UID:653-1576310400-1576342800@www.dmvbanglaevents.com
SUMMARY:BAAI Event
DESCRIPTION:More information coming soon
URL:https://www.dmvbanglaevents.com/event/baai-event/
CATEGORIES:সাংস্কৃতিক অনুষ্ঠান
END:VEVENT
BEGIN:VEVENT
DTSTART;TZID=UTC:20191109T160000
DTEND;TZID=UTC:20191109T180000
DTSTAMP:20260423T171709
CREATED:20190106T162729Z
LAST-MODIFIED:20190106T162729Z
UID:528-1573315200-1573322400@www.dmvbanglaevents.com
SUMMARY:Tenth Anniversary of Tagore Music Group of Greater Washington DC
DESCRIPTION:To celebrate it’s tenth anniversary\, Tagore Music Group of Greater Washington DC will be staging a spectacular show. Please mark your calendars in advance and make sure you stay tuned for more info.
URL:https://www.dmvbanglaevents.com/event/tenth-anniversary-of-tagore-music-group-of-greater-washington-dc/
LOCATION:Bender JCC of Greater Washington\, 6125 Montrose Rd\, Rockville\, MD\, 20852\, United States
CATEGORIES:সাংস্কৃতিক অনুষ্ঠান
ATTACH;FMTTYPE=image/jpeg:https://www.dmvbanglaevents.com/wp-content/uploads/2019/01/tagore.jpg
END:VEVENT
BEGIN:VEVENT
DTSTART;TZID=UTC:20191103T150000
DTEND;TZID=UTC:20191103T180000
DTSTAMP:20260423T171709
CREATED:20190302T170734Z
LAST-MODIFIED:20190302T170734Z
UID:641-1572793200-1572804000@www.dmvbanglaevents.com
SUMMARY:Hridoybeena's Annual Show
DESCRIPTION:More information coming soon.
URL:https://www.dmvbanglaevents.com/event/hridoybeenas-annual-show/
ATTACH;FMTTYPE=image/jpeg:https://www.dmvbanglaevents.com/wp-content/uploads/2019/03/hridoybina.jpg
ORGANIZER;CN="Hridoybeena":MAILTO:hridaybeena@gmail.com
END:VEVENT
BEGIN:VEVENT
DTSTART;TZID=UTC:20191005T100000
DTEND;TZID=UTC:20191005T210000
DTSTAMP:20260423T171709
CREATED:20190106T162138Z
LAST-MODIFIED:20190106T162138Z
UID:525-1570269600-1570309200@www.dmvbanglaevents.com
SUMMARY:Nilachal Durga Puja 2019
DESCRIPTION:We are very excited to invite you to celebrate the Durga Puja festival on Saturday\, Oct 5\, 2019. Please mark your calendar for the 5th Durga puja by Nilachal. This will be grand and more extraordinary than ever before!
URL:https://www.dmvbanglaevents.com/event/nilachal-durga-puja-2019/
LOCATION:TBA\, United States
CATEGORIES:সাংস্কৃতিক অনুষ্ঠান
ATTACH;FMTTYPE=image/jpeg:https://www.dmvbanglaevents.com/wp-content/uploads/2019/01/nilachol19.jpg
END:VEVENT
BEGIN:VEVENT
DTSTART;TZID=UTC:20190928T150000
DTEND;TZID=UTC:20190928T230000
DTSTAMP:20260423T171709
CREATED:20190105T151938Z
LAST-MODIFIED:20190302T162201Z
UID:491-1569682800-1569711600@www.dmvbanglaevents.com
SUMMARY:Pride Achievement Awards 2019
DESCRIPTION:বৃহত্তর ওয়াশিংটনে জুন মাসের ১৫তারিখে আসছে তরুণ প্রজম্মের অনেকশিল্পী। \nএই প্রথমবারের মত ওয়াশিংটন মাতাতে বাংলাদেশ এবং কলকাতা থেকে আসছে ।এছাড়াও অনুষ্ঠানে আরো থাকছে ।\nPride Achievements Awards Coming in june 2019. \n\nVenue : George Mason University Center for the Arts\nAddress : 4373 Mason Pond Dr\, Fairfax\, VA 22030 \nUjjal Hossain \nDC\,MD\,VA \n7032036821
URL:https://www.dmvbanglaevents.com/event/pride-achievement-awards-2019/
LOCATION:George Mason University Center for the Arts\, 4373 Mason Pond Dr\, Fairfax\, VA\, 22030\, United States
CATEGORIES:সাংস্কৃতিক অনুষ্ঠান
END:VEVENT
BEGIN:VEVENT
DTSTART;TZID=UTC:20190907T160000
DTEND;TZID=UTC:20190907T233000
DTSTAMP:20260423T171709
CREATED:20180614T055120Z
LAST-MODIFIED:20190205T120510Z
UID:150-1567872000-1567899000@www.dmvbanglaevents.com
SUMMARY:বাংলা উৎসব ২০১৯
DESCRIPTION:ডিএমভি এলাকার নতুন প্রজন্মের বাঙালি শিশু-কিশোরদের সাংস্কৃতিক পরিবেশনা।
URL:https://www.dmvbanglaevents.com/event/%e0%a6%ac%e0%a6%be%e0%a6%82%e0%a6%b2%e0%a6%be-%e0%a6%89%e0%a7%8e%e0%a6%b8%e0%a6%ac-%e0%a7%a8%e0%a7%a6%e0%a7%a7%e0%a7%ae/
LOCATION:TBA\, United States
ATTACH;FMTTYPE=image/jpeg:https://www.dmvbanglaevents.com/wp-content/uploads/2018/06/bangla-utshob-1.jpg
END:VEVENT
END:VCALENDAR