BEGIN:VCALENDAR
VERSION:2.0
PRODID:-//Bangali Events in DC, Maryland and Virginia - ECPv6.15.20//NONSGML v1.0//EN
CALSCALE:GREGORIAN
METHOD:PUBLISH
X-ORIGINAL-URL:https://www.dmvbanglaevents.com
X-WR-CALDESC:Events for Bangali Events in DC, Maryland and Virginia
REFRESH-INTERVAL;VALUE=DURATION:PT1H
X-Robots-Tag:noindex
X-PUBLISHED-TTL:PT1H
BEGIN:VTIMEZONE
TZID:UTC
BEGIN:STANDARD
TZOFFSETFROM:+0000
TZOFFSETTO:+0000
TZNAME:UTC
DTSTART:20170101T000000
END:STANDARD
END:VTIMEZONE
BEGIN:VEVENT
DTSTART;TZID=UTC:20180811T150000
DTEND;TZID=UTC:20180811T170000
DTSTAMP:20260424T063601
CREATED:20180802T123212Z
LAST-MODIFIED:20180802T123212Z
UID:252-1533999600-1534006800@www.dmvbanglaevents.com
SUMMARY:আকাশ ভরা বেদনা - বাইশে শ্রাবণ স্মরণে
DESCRIPTION:কবিগুরু রবীন্দ্রনাথ ঠাকুরের মহাপ্রয়াণদিবস বাইশে শ্রাবণ স্মরণে আপনাদের প্রিয় সঙ্গীতশিল্পী দেবাঙ্গনা সরকার এবার বেশ কিছু বছরের ব্যবধানে আবার আপনাদের কাছে নিয়ে আসছেন তাঁর গানের ডালি…যার কিছু ব্যথায় ভরা আবার কিছু মেঘমন্দ্রিত… ঝরঝর বরিষণ-মুখরিত…তাঁর অননুকরণীয় গায়কী ও ভঙ্গিমায় এবং স্থানীয় কিছু নবীন প্রতিভাশালী নৃত্যশিল্পীর নৃত্যানুসঙ্গে যা হয়ে উঠবে অনির্বচনীয়। এর সঙ্গে আবৃত্তিতে যোগদান করবেন এই অঞ্চলের জনপ্রিয় বাকশিল্পী শ্রীনতী অদিতি সাদিয়া রহমান।\nঘরোয়া পরিবেশে উপস্থাপিত এই অনুষ্ঠানটিতে স্থান সীমিত\, তাই আশা রাখব যে আপনারা সত্বর নিম্নোল্লিখিত টেলিফোনে যোগাযোগ করে নিজেদের আসন সংরক্ষণের ব্যবস্থা করে নেবেন। \nপ্রতিটি টিকিট – $১৫.০০ \nঅনুষ্ঠানের প্রথমে চা ও শেষে জলখাবারের ব্যবস্থা ত্থাকবে। \nযোগাযোগ : \nশিখা ভড় – 703-241-8574 \nভারতী মিত্র – 301-217-0417 \nস্থান – 2008 Great Falls Street\, McLean\, VA 22101 \n[স্ট্রীট পার্কিং]
URL:https://www.dmvbanglaevents.com/event/%e0%a6%86%e0%a6%95%e0%a6%be%e0%a6%b6-%e0%a6%ad%e0%a6%b0%e0%a6%be-%e0%a6%ac%e0%a7%87%e0%a6%a6%e0%a6%a8%e0%a6%be-%e0%a6%ac%e0%a6%be%e0%a6%87%e0%a6%b6%e0%a7%87-%e0%a6%b6%e0%a7%8d%e0%a6%b0%e0%a6%be/
LOCATION:VA
ATTACH;FMTTYPE=image/jpeg:https://www.dmvbanglaevents.com/wp-content/uploads/2018/08/robindro.jpg
END:VEVENT
BEGIN:VEVENT
DTSTART;TZID=UTC:20180811T110000
DTEND;TZID=UTC:20180811T200000
DTSTAMP:20260424T063601
CREATED:20180614T053728Z
LAST-MODIFIED:20180614T054017Z
UID:143-1533985200-1534017600@www.dmvbanglaevents.com
SUMMARY:পঞ্চম বর্ণমালা বার্ষিক বনভোজন ২০১৮
DESCRIPTION:পঞ্চম বর্ণমালা বার্ষিক বনভোজন ২০১৮ \nটিকেটঃ $২৫/ পরিবার
URL:https://www.dmvbanglaevents.com/event/%e0%a6%aa%e0%a6%9e%e0%a7%8d%e0%a6%9a%e0%a6%ae-%e0%a6%ac%e0%a6%b0%e0%a7%8d%e0%a6%a3%e0%a6%ae%e0%a6%be%e0%a6%b2%e0%a6%be-%e0%a6%ac%e0%a6%be%e0%a6%b0%e0%a7%8d%e0%a6%b7%e0%a6%bf%e0%a6%95-%e0%a6%ac/
LOCATION:LeeSylvania State Park\, 2001 Daniel K Ludwig Dr\, Woodbridge\, VA\, 22191\, United States
ATTACH;FMTTYPE=image/jpeg:https://www.dmvbanglaevents.com/wp-content/uploads/2018/06/Bornomala-Picnic-2018-Bornomala-Shikkhangon.jpg
END:VEVENT
BEGIN:VEVENT
DTSTART;TZID=UTC:20180804T180000
DTEND;TZID=UTC:20180804T220000
DTSTAMP:20260424T063601
CREATED:20180728T144107Z
LAST-MODIFIED:20180728T144245Z
UID:242-1533405600-1533420000@www.dmvbanglaevents.com
SUMMARY:রবীন্দ্র সঙ্গীত সন্ধ্যা- সালমা আকবর ও সাজেদ আকবর
DESCRIPTION:  \nশিল্পী সালমা আকবর ও সাজেদ আকবর রবীন্দ্র সঙ্গীত ভুবনে একটি অতি পরিচিত নাম। শিল্পী দম্পতি বাংলাদেশ টেলিভিশনসহ বিভিন্ন টিভি চ্যানল এবং বাংলাদেশ বেতারের নিয়মিত শিল্পী। উভয়েই দেশের সাংস্কৃতিক পরিমন্ডলে স্বনামধন্য ব্যক্তিত্ব এবং দেশে বিদেশে অসংখ্য অনুষ্ঠানে রবীন্দ্র সঙ্গীতে পরিবেশন করে শ্রোতা-দর্শকদের মন জয় করে নিয়েছেন। আজ তাদেরই আমরা সাথে পাচ্ছি আয়োজিত এই সঙ্গীত সন্ধ্যায় প্রান ভরে গান শোনার জন্য। আপনাদের সবাইকে এই সুন্দর সঙ্গীত সন্ধ্যায় আমন্ত্রন জানাচ্ছে Bangladesh Association of Greater Washington DC – BAGWDC \n  \nAddress:  \n3514 Woodburn Rd\, Annandale\, VA 22003 \nPlease RSVP: \n703-626-5814\, 571-552-2168\, 7103-944-2389
URL:https://www.dmvbanglaevents.com/event/bagwdc_event_tagore/
LOCATION:VA
CATEGORIES:গান,সাংস্কৃতিক অনুষ্ঠান
ATTACH;FMTTYPE=image/jpeg:https://www.dmvbanglaevents.com/wp-content/uploads/2018/07/BAGWDc1.jpg
ORGANIZER;CN="BAGWDC":MAILTO:bagwdc2017@gmail.com
END:VEVENT
BEGIN:VEVENT
DTSTART;TZID=UTC:20180804T120000
DTEND;TZID=UTC:20180804T160000
DTSTAMP:20260424T063601
CREATED:20180701T214003Z
LAST-MODIFIED:20180701T214003Z
UID:223-1533384000-1533398400@www.dmvbanglaevents.com
SUMMARY:প্রিয়বাংলা ফ্রি মেডিকেল ক্যাম্প
DESCRIPTION:প্রিয়বাংলার আয়োজনে তৃতীয়বারের মত আসছে ওয়াশিংটন ডিসি মেট্রো এলাকাবাসীদের জন্য বিনামূল্যে স্বাস্থ্য সেবা।
URL:https://www.dmvbanglaevents.com/event/priobangla_health1/
LOCATION:Walter Reed Community Center\, 2909 16th St\, Arlington\, VA\, 22204\, United States
CATEGORIES:সাস্থ্যসেবা
ATTACH;FMTTYPE=image/jpeg:https://www.dmvbanglaevents.com/wp-content/uploads/2018/07/Prio-Bangla-Health.jpg
ORGANIZER;CN="%E0%A6%AA%E0%A7%8D%E0%A6%B0%E0%A6%BF%E0%A7%9F%E0%A6%AC%E0%A6%BE%E0%A6%82%E0%A6%B2%E0%A6%BE":MAILTO:info@priobangla.org
END:VEVENT
BEGIN:VEVENT
DTSTART;TZID=UTC:20180729T100000
DTEND;TZID=UTC:20180729T150000
DTSTAMP:20260424T063601
CREATED:20180712T014452Z
LAST-MODIFIED:20180717T123621Z
UID:229-1532858400-1532876400@www.dmvbanglaevents.com
SUMMARY:চাঁটগাইয়া মেজবান ২০১৮
DESCRIPTION:মেজবান (ফারসি:میزبان) বাংলাদেশের বৃহত্তর চট্টগ্রাম এলাকার বহুমাত্রিক ঐতিহ্যবাহী একটি অনুষ্ঠান। চট্টগ্রামের ভাষায় একে মেজ্জান বলা হয়। সাধারণত কারো মৃত্যুর পর কুলখানি\, চেহলাম\, মৃত্যুবার্ষিকী\, শিশুর জন্মের পর আকিকা উপলক্ষে\, ধর্মীয় ব্যক্তির মৃত্যুবার্ষিকীতে মেজবানের আয়োজন করা হয়। এছাড়া নির্দিষ্ট উপলক্ষ ছাড়া বা কোনো শুভ ঘটনার জন্যও মেজবান করা হয়।
URL:https://www.dmvbanglaevents.com/event/mezban2018/
LOCATION:Fort Hunt Park Alexandria\, 8999 Fort Hunt Rd\, Alexandria\, VA\, 22308\, United States
CATEGORIES:বনভোজন,সাংস্কৃতিক অনুষ্ঠান
ATTACH;FMTTYPE=image/jpeg:https://www.dmvbanglaevents.com/wp-content/uploads/2018/07/37F51C6E-5F0C-4D76-BDBA-5D0D84E3563A-dewan-ali.jpeg
ORGANIZER;CN="%E0%A6%9A%E0%A6%BE%E0%A6%81%E0%A6%9F%E0%A6%97%E0%A6%BE%E0%A6%87%E0%A6%AF%E0%A6%BC%E0%A6%BE %E0%A6%AE%E0%A7%87%E0%A6%9C%E0%A6%AC%E0%A6%BE%E0%A6%A8 %E0%A6%9F%E0%A6%BF%E0%A6%AE":MAILTO:Chatgaiamezban@gmail.com
END:VEVENT
BEGIN:VEVENT
DTSTART;TZID=UTC:20180728T180000
DTEND;TZID=UTC:20180728T203000
DTSTAMP:20260424T063601
CREATED:20180610T034848Z
LAST-MODIFIED:20180611T060444Z
UID:13-1532800800-1532809800@www.dmvbanglaevents.com
SUMMARY:বলো কি তোমার ক্ষতি
DESCRIPTION:  \nহৃদয়বীণা আগামী ২৮শে জুলাই “বলো কি তোমার ক্ষতি…” শীর্ষক একটি সাংস্কৃতিক অনুষ্ঠানের  আয়োজন করতে যাচ্ছে। কমিউনিটির ক্ষুধার্ত শিশুদের জন্য অনুষ্ঠানে ফুড ড্রাইভেরও আয়োজন করছেন আয়োজকরা। গত বছরের  রবীন্দ্র-নজরুল জয়ন্তী অনুষ্ঠানের অর্থ এবং খাদ্য ক্যাপিটাল ফুড ব্যাংকে দান করা হয়।
URL:https://www.dmvbanglaevents.com/event/%e0%a6%ac%e0%a6%b2%e0%a7%8b-%e0%a6%95%e0%a6%bf-%e0%a6%a4%e0%a7%8b%e0%a6%ae%e0%a6%be%e0%a6%b0-%e0%a6%95%e0%a7%8d%e0%a6%b7%e0%a6%a4%e0%a6%bf/
LOCATION:James Lee Community Center\, 2855 Annandale Rd\, Falls Church\, VA\, 22042\, United States
CATEGORIES:সাংস্কৃতিক অনুষ্ঠান
ATTACH;FMTTYPE=image/jpeg:https://www.dmvbanglaevents.com/wp-content/uploads/2018/06/31906915_1016754855150332_7833906617170001920_n.jpg
END:VEVENT
BEGIN:VEVENT
DTSTART;TZID=UTC:20180722T100000
DTEND;TZID=UTC:20180722T190000
DTSTAMP:20260424T063601
CREATED:20180613T130116Z
LAST-MODIFIED:20180614T025813Z
UID:120-1532253600-1532286000@www.dmvbanglaevents.com
SUMMARY:DUAFI বনভোজন ২০১৮
DESCRIPTION:DMV এলাকাতে বসবাসরত ঢাকা বিশ্ববিদ্যালয়ের প্রাক্তন ছাত্রছাত্রীদের বাৎসরিক বনভোজন অনুষ্ঠিত হতে যাচ্ছে এবছর জুলাই এর ২২ তারিখ\, রবিবার । আপনি যদি ঢাকা বিশ্ববিদ্যালয়ের (main campus) থেকে পাশ করে থাকেন এবং পিকনিক এ যোগদান করতে ইচ্ছুক\, আয়োজকদের ইমেইল অথবা ফোন যোগাযোগ করতে অনুরোধ করা হলো। \nফোন: 703-403-1999 \nইমেইল: DUAFInc@yahoo.com \nবিঃদ্রঃ \nএই ইভেন্টটি কেবলমাত্র ঢাকা বিশ্ববিদ্যালয়ের প্রাক্তন শিক্ষাত্রী ও তাদের পরিবারবর্গের জন্য আয়োজিত হবে।  
URL:https://www.dmvbanglaevents.com/event/duafi-%e0%a6%ac%e0%a6%a8%e0%a6%ad%e0%a7%8b%e0%a6%9c%e0%a6%a8-%e0%a7%a8%e0%a7%a6%e0%a7%a7%e0%a7%ae/
LOCATION:Place Lake Fairfax Park\, Shelter K\, 1400 Lake Fairfax Drive\, Reston\, VA\, 20190\, United States
CATEGORIES:বনভোজন
ATTACH;FMTTYPE=image/jpeg:https://www.dmvbanglaevents.com/wp-content/uploads/2018/06/FLYER_PICNIC-Sabrina-Rahman.jpg
ORGANIZER;CN="DUAFI":MAILTO:DUAFInc@yahoo.com
END:VEVENT
BEGIN:VEVENT
DTSTART;TZID=UTC:20180707T150000
DTEND;TZID=UTC:20180707T180000
DTSTAMP:20260424T063601
CREATED:20180621T122832Z
LAST-MODIFIED:20180621T122832Z
UID:180-1530975600-1530986400@www.dmvbanglaevents.com
SUMMARY:An Evening with Srijato and Angshuman
DESCRIPTION:Godyo Podyer Ashor (GPA)\, in collaboration with Ebong TheatriX\, is hosting two highly acclaimed poets from Kolkata – Srijato Bandopadhyaya and Angshuman Kar on July 7th\, 2018 at the Cabin John Middle School from 3 pm to 6 pm. During the program\, our guests will discuss the current development of Bengali literature\, with emphasis on Bengali poetry. Details of this event are presented below. \nTicket: $10 per person (at the gate) or\nOnline – https://www.ebongtheatrix.org/shop\nFor more Information Contact\nLokesh Bhattacharya (240-997-4794) &\nDibyendu Paul (301-366-1601)
URL:https://www.dmvbanglaevents.com/event/an-evening-with-srijato-and-angshuman/
LOCATION:Cabin John Middle School\, 10701 Gainsborough Rd\, Potomac\, MD\, 20854\, United States
CATEGORIES:কবিতা,সাংস্কৃতিক অনুষ্ঠান,সাহিত্য
ATTACH;FMTTYPE=image/jpeg:https://www.dmvbanglaevents.com/wp-content/uploads/2018/06/golpo.jpg
ORGANIZER;CN="Ebong TheatriX":MAILTO:ebong@ebongtheatrix.org
END:VEVENT
BEGIN:VEVENT
DTSTART;TZID=UTC:20180630T100000
DTEND;TZID=UTC:20180630T220000
DTSTAMP:20260424T063601
CREATED:20180610T033209Z
LAST-MODIFIED:20180611T065410Z
UID:7-1530352800-1530396000@www.dmvbanglaevents.com
SUMMARY:ডিসি বইমেলা
DESCRIPTION:  \nপ্রথমবারের মতো বাংলা বই নিয়ে একটি পূর্ণাঙ্গ বইমেলার আয়োজন করছে আমরা বাঙালি ফাউন্ডেশন। দিনব্যাপী একটি সাহিত্য সন্মেলনের আয়োজনের জন্য বইমেলা আয়োজক কমিটি বিরামহীন কাজ করে চলছে। আয়োজকদের বিশ্বাস ওয়াশিংটন ডিসির এই বইমেলা ডিএমভি এলাকার বাঙালিদের প্রানের উৎসবে পরিনত হবে।
URL:https://www.dmvbanglaevents.com/event/%e0%a6%a1%e0%a6%bf%e0%a6%b8%e0%a6%bf-%e0%a6%ac%e0%a6%87%e0%a6%ae%e0%a7%87%e0%a6%b2%e0%a6%be/
LOCATION:NOVA Community College\, 8333 Little River Tpke\, Annandale\, VA\, 22003\, United States
CATEGORIES:সাহিত্য
ATTACH;FMTTYPE=image/jpeg:https://www.dmvbanglaevents.com/wp-content/uploads/2018/06/34669875_10156367672319659_5544192159340560384_n.jpg
ORGANIZER;CN="%E0%A6%86%E0%A6%AE%E0%A6%B0%E0%A6%BE %E0%A6%AC%E0%A6%BE%E0%A6%99%E0%A6%BE%E0%A6%B2%E0%A6%BF %E0%A6%AB%E0%A6%BE%E0%A6%89%E0%A6%A8%E0%A7%8D%E0%A6%A1%E0%A7%87%E0%A6%B6%E0%A6%A8":MAILTO:dcboimela@gmail.com
END:VEVENT
BEGIN:VEVENT
DTSTART;TZID=UTC:20180630T090000
DTEND;TZID=UTC:20180630T200000
DTSTAMP:20260424T063601
CREATED:20180614T052408Z
LAST-MODIFIED:20180614T052838Z
UID:131-1530349200-1530388800@www.dmvbanglaevents.com
SUMMARY:ডালাস ইউনাইটেড ডিএমভি বাঙালি সকার টুর্নামেন্ট
DESCRIPTION:ডিসি\, ম্যারিল্যান্ড এবং ভার্জিনিয়ায় বসবাসরত বাংলাদেশিদের জন্য় সকার টুর্নামেন্টঃ ডালাস ইউনাইটেড ডিএমভি বাঙালি সকার টুর্নামেন্ট ২০১৮। \nটিকেটঃ \nদর্শকদের জন্য ঃ ফ্রি \nটিম রেজিস্ট্রেশনঃ $100
URL:https://www.dmvbanglaevents.com/event/%e0%a6%a1%e0%a6%be%e0%a6%b2%e0%a6%be%e0%a6%b8-%e0%a6%87%e0%a6%89%e0%a6%a8%e0%a6%be%e0%a6%87%e0%a6%9f%e0%a7%87%e0%a6%a1-%e0%a6%a1%e0%a6%bf%e0%a6%8f%e0%a6%ae%e0%a6%ad%e0%a6%bf-%e0%a6%ac%e0%a6%be/
LOCATION:Sully Highland Park\, 13808 Wall Rd\, Herndon\, VA\, 20170\, United States
ATTACH;FMTTYPE=image/png:https://www.dmvbanglaevents.com/wp-content/uploads/2018/06/DU-Masud-Ahsan.png
END:VEVENT
BEGIN:VEVENT
DTSTART;TZID=UTC:20180624T130000
DTEND;TZID=UTC:20180624T180000
DTSTAMP:20260424T063601
CREATED:20180611T064722Z
LAST-MODIFIED:20180611T064722Z
UID:115-1529845200-1529863200@www.dmvbanglaevents.com
SUMMARY:বাই(BAAI) এর ইদ পূনর্মিলনী
DESCRIPTION:বাই ইদ পূনর্মিলনী আয়োজন করতে যাচ্ছে জুনের ২৪ তারিখ। বাংলাদেশ থেকে এই অনুষ্ঠানে গান গাইতে আসছেন মায়শা আমিন। তাঁর সাথে ডিসি এলাকার শিল্পী তাসলিম হাসানও থাকছেন।
URL:https://www.dmvbanglaevents.com/event/%e0%a6%ac%e0%a6%be%e0%a6%87baai-%e0%a6%8f%e0%a6%b0-%e0%a6%87%e0%a6%a6-%e0%a6%aa%e0%a7%82%e0%a6%a8%e0%a6%b0%e0%a7%8d%e0%a6%ae%e0%a6%bf%e0%a6%b2%e0%a6%a8%e0%a7%80/
LOCATION:VA
ATTACH;FMTTYPE=image/jpeg:https://www.dmvbanglaevents.com/wp-content/uploads/2018/06/33943966_10214342093659243_6495470391123771392_n.jpg
END:VEVENT
BEGIN:VEVENT
DTSTART;TZID=UTC:20180617T170000
DTEND;TZID=UTC:20180617T210000
DTSTAMP:20260424T063601
CREATED:20180624T165513Z
LAST-MODIFIED:20180624T165615Z
UID:198-1529254800-1529269200@www.dmvbanglaevents.com
SUMMARY:সাধু আন্তনির পর্ব
DESCRIPTION:প্রবাসী আন্তনি ভক্তদের জন্য নভেনা ও বিশেষ খ্রীষ্টযাগ। উৎসর্গ করবে রাজশাহী ধর্মপ্রদেশের ধর্মপাল বিশপ জের্ভাস রোজারিও ও বান্দরবান ধর্মপল্লীর পালপুরোহিত ফাদার ডমিনিক সরকার\, সিএসসি।
URL:https://www.dmvbanglaevents.com/event/sadhu/
LOCATION:Saint Camillus Church\, 1600 St Camillus Dr\, Silver Spring\, 20903\, United States
ATTACH;FMTTYPE=image/jpeg:https://www.dmvbanglaevents.com/wp-content/uploads/2018/06/antho-strawberry.jpg
END:VEVENT
END:VCALENDAR