BEGIN:VCALENDAR
VERSION:2.0
PRODID:-//Bangali Events in DC, Maryland and Virginia - ECPv6.15.20//NONSGML v1.0//EN
CALSCALE:GREGORIAN
METHOD:PUBLISH
X-ORIGINAL-URL:https://www.dmvbanglaevents.com
X-WR-CALDESC:Events for Bangali Events in DC, Maryland and Virginia
REFRESH-INTERVAL;VALUE=DURATION:PT1H
X-Robots-Tag:noindex
X-PUBLISHED-TTL:PT1H
BEGIN:VTIMEZONE
TZID:UTC
BEGIN:STANDARD
TZOFFSETFROM:+0000
TZOFFSETTO:+0000
TZNAME:UTC
DTSTART:20170101T000000
END:STANDARD
END:VTIMEZONE
BEGIN:VEVENT
DTSTART;TZID=UTC:20181110T140000
DTEND;TZID=UTC:20181110T170000
DTSTAMP:20260424T040654
CREATED:20181104T132117Z
LAST-MODIFIED:20181104T132117Z
UID:416-1541858400-1541869200@www.dmvbanglaevents.com
SUMMARY:Debi Premier Screening in Maryland
DESCRIPTION:Based on the timeless novel by the revered novelist\, playwright and writer Humayun Ahmed – “Debi” brings the character of Ranu ( played by Bangladesh’s International star and six time National Award winning actress Jaya Ahsan ) and the famous character Misir Ali ( played by veteran TV and stage actor of AynaBaji fame Chanchal Chowdhury ) on screen in a social -psychological- thriller drama. “Debi” also features a star cast including Shabnam Faria\, Animesh Aich and Iresh Zaker. \nThe Film is directed by Anam Biswas – who wrote the script of Aynabaji – and this is his debut film as a Director. Jaya Ahsan also debuts as a producer in this Film. The Film also features songs by Anupam Roy\, Pritom Hasan and M.G. Kibria.The movie is produced by C for Cinema Productions. \n“Debi” is an eagerly awaited film and there has been a keen sustained interest in this Film since it was announced. Bioskope Films brings this eagerly awaited movie for the Bengali audience throughout the United States . The Film is sub-titled in English and the run time is 1 hr 44 min. \n  \nTicket link: http://events.sulekha.com/debi-premier-screening-in-maryland_event-in_linthicum-heights-md_334996
URL:https://www.dmvbanglaevents.com/event/debi-premier-screening-in-maryland/
LOCATION:Hoyts West Nursery Cinemas\, 1591 W Nursery Rd\, Linthicum Heights\, MD\, 21090\, United States
CATEGORIES:সিনেমা
ATTACH;FMTTYPE=image/jpeg:https://www.dmvbanglaevents.com/wp-content/uploads/2018/10/debi.jpg
END:VEVENT
BEGIN:VEVENT
DTSTART;TZID=UTC:20181104T140000
DTEND;TZID=UTC:20181104T200000
DTSTAMP:20260424T040654
CREATED:20181024T055243Z
LAST-MODIFIED:20181104T174200Z
UID:397-1541340000-1541361600@www.dmvbanglaevents.com
SUMMARY:Debi DC Virginia Premier - 2 shows back to back (sold out)
DESCRIPTION:*****These shows are sold out**** \n*****Buy tickets for Maryland show**** \nBased on the timeless novel by the revered novelist\, playwright and writer Humayun Ahmed – “Debi” brings the character of Ranu ( played by Bangladesh’s International star and six time National Award winning actress Jaya Ahsan ) and the famous character Misir Ali ( played by veteran TV and stage actor of AynaBaji fame Chanchal Chowdhury ) on screen in a social -psychological- thriller drama. “Debi” also features a star cast including Shabnam Faria\, Animesh Aich and Iresh Zaker. \nThe Film is directed by Anam Biswas – who wrote the script of Aynabaji – and this is his debut film as a Director. Jaya Ahsan also debuts as a producer in this Film. The Film also features songs by Anupam Roy\, Pritom Hasan and M.G. Kibria.The movie is produced by C for Cinema Productions. \n“Debi” is an eagerly awaited film and there has been a keen sustained interest in this Film since it was announced. Bioskope Films brings this eagerly awaited movie for the Bengali audience throughout the United States . The Film is sub-titled in English and the run time is 1 hr 44 min. \nThank You for supporting good Bengali Cinema! \n 
URL:https://www.dmvbanglaevents.com/event/debi-at-dc-cinemas/
LOCATION:DC Cinema\, 7291 Arlington Blvd\, Falls Church\, Virginia\, 22042\, United States
CATEGORIES:সিনেমা
ATTACH;FMTTYPE=image/jpeg:https://www.dmvbanglaevents.com/wp-content/uploads/2018/10/debi.jpg
END:VEVENT
END:VCALENDAR