BEGIN:VCALENDAR
VERSION:2.0
PRODID:-//Bangali Events in DC, Maryland and Virginia - ECPv6.15.20//NONSGML v1.0//EN
CALSCALE:GREGORIAN
METHOD:PUBLISH
X-WR-CALNAME:Bangali Events in DC, Maryland and Virginia
X-ORIGINAL-URL:https://www.dmvbanglaevents.com
X-WR-CALDESC:Events for Bangali Events in DC, Maryland and Virginia
REFRESH-INTERVAL;VALUE=DURATION:PT1H
X-Robots-Tag:noindex
X-PUBLISHED-TTL:PT1H
BEGIN:VTIMEZONE
TZID:UTC
BEGIN:STANDARD
TZOFFSETFROM:+0000
TZOFFSETTO:+0000
TZNAME:UTC
DTSTART:20170101T000000
END:STANDARD
END:VTIMEZONE
BEGIN:VEVENT
DTSTART;TZID=UTC:20190112T130000
DTEND;TZID=UTC:20190112T160000
DTSTAMP:20260424T053336
CREATED:20181228T070933Z
LAST-MODIFIED:20181228T070933Z
UID:479-1547298000-1547308800@www.dmvbanglaevents.com
SUMMARY:প্রিয়বাংলা ফ্রি মেডিকেল ক্যাম্প ও সিটিজেনশিপ এপ্লিকেশন ওয়ার্কশপ
DESCRIPTION:
URL:https://www.dmvbanglaevents.com/event/%e0%a6%aa%e0%a7%8d%e0%a6%b0%e0%a6%bf%e0%a7%9f%e0%a6%ac%e0%a6%be%e0%a6%82%e0%a6%b2%e0%a6%be-%e0%a6%ab%e0%a7%8d%e0%a6%b0%e0%a6%bf-%e0%a6%ae%e0%a7%87%e0%a6%a1%e0%a6%bf%e0%a6%95%e0%a7%87%e0%a6%b2/
LOCATION:Walter Reed Community Center\, 2909 16th St\, Arlington\, VA\, 22204\, United States
CATEGORIES:সাস্থ্যসেবা
ATTACH;FMTTYPE=image/jpeg:https://www.dmvbanglaevents.com/wp-content/uploads/2018/12/priobangla_health2019.jpg
ORGANIZER;CN="%E0%A6%AA%E0%A7%8D%E0%A6%B0%E0%A6%BF%E0%A7%9F%E0%A6%AC%E0%A6%BE%E0%A6%82%E0%A6%B2%E0%A6%BE":MAILTO:info@priobangla.org
END:VEVENT
BEGIN:VEVENT
DTSTART;TZID=UTC:20180804T120000
DTEND;TZID=UTC:20180804T160000
DTSTAMP:20260424T053336
CREATED:20180701T214003Z
LAST-MODIFIED:20180701T214003Z
UID:223-1533384000-1533398400@www.dmvbanglaevents.com
SUMMARY:প্রিয়বাংলা ফ্রি মেডিকেল ক্যাম্প
DESCRIPTION:প্রিয়বাংলার আয়োজনে তৃতীয়বারের মত আসছে ওয়াশিংটন ডিসি মেট্রো এলাকাবাসীদের জন্য বিনামূল্যে স্বাস্থ্য সেবা।
URL:https://www.dmvbanglaevents.com/event/priobangla_health1/
LOCATION:Walter Reed Community Center\, 2909 16th St\, Arlington\, VA\, 22204\, United States
CATEGORIES:সাস্থ্যসেবা
ATTACH;FMTTYPE=image/jpeg:https://www.dmvbanglaevents.com/wp-content/uploads/2018/07/Prio-Bangla-Health.jpg
ORGANIZER;CN="%E0%A6%AA%E0%A7%8D%E0%A6%B0%E0%A6%BF%E0%A7%9F%E0%A6%AC%E0%A6%BE%E0%A6%82%E0%A6%B2%E0%A6%BE":MAILTO:info@priobangla.org
END:VEVENT
END:VCALENDAR