BEGIN:VCALENDAR
VERSION:2.0
PRODID:-//Bangali Events in DC, Maryland and Virginia - ECPv6.15.20//NONSGML v1.0//EN
CALSCALE:GREGORIAN
METHOD:PUBLISH
X-ORIGINAL-URL:https://www.dmvbanglaevents.com
X-WR-CALDESC:Events for Bangali Events in DC, Maryland and Virginia
REFRESH-INTERVAL;VALUE=DURATION:PT1H
X-Robots-Tag:noindex
X-PUBLISHED-TTL:PT1H
BEGIN:VTIMEZONE
TZID:UTC
BEGIN:STANDARD
TZOFFSETFROM:+0000
TZOFFSETTO:+0000
TZNAME:UTC
DTSTART:20170101T000000
END:STANDARD
END:VTIMEZONE
BEGIN:VEVENT
DTSTART;TZID=UTC:20190126T180000
DTEND;TZID=UTC:20190126T233000
DTSTAMP:20260424T011349
CREATED:20181017T044503Z
LAST-MODIFIED:20190106T165910Z
UID:376-1548525600-1548545400@www.dmvbanglaevents.com
SUMMARY:ফ্রেন্ডস এন্ড ফ্যামিলি পিঠা উৎসব ২০১৯
DESCRIPTION:
URL:https://www.dmvbanglaevents.com/event/fnf19/
LOCATION:Freedom High School\, 15201 Neabsco Mills Rd\, Woodbridge\, VA\, 22191\, United States
CATEGORIES:মেলা,সাংস্কৃতিক অনুষ্ঠান
ATTACH;FMTTYPE=image/jpeg:https://www.dmvbanglaevents.com/wp-content/uploads/2018/10/pitha-1.jpg
END:VEVENT
BEGIN:VEVENT
DTSTART;TZID=UTC:20190119T160000
DTEND;TZID=UTC:20190119T230000
DTSTAMP:20260424T011349
CREATED:20181228T070141Z
LAST-MODIFIED:20181228T070210Z
UID:463-1547913600-1547938800@www.dmvbanglaevents.com
SUMMARY:ফ্রেন্ডস এন্ড ফ্যামিলি (ডিসি\, ম্যারিল্যান্ড\, ভার্জিনিয়া) পিঠা উৎসব ২০১৯
DESCRIPTION:এই প্রথমবারের মত ওয়াশিংটন মাতাতে বাংলাদেশ থেকে আসছে তরুণ প্রজম্মের জনপ্রিয় শিল্পী হৃদয় খান। আগামী ১৯ জানুয়ারি শনিবার ডিসি মেরিল্যান্ড ভার্জিনিয়ার জনপ্রিয় সংগঠন ফ্রেন্ডস এন্ড ফ্যামেলী (ডিসি\, ম্যারিল্যান্ড\, ভার্জিনিয়া) আয়োজিত পিঠা উৎসবে হৃদয় খান প্রথমবারের মত সঙ্গীত পরিবেশন করবেন বলে জানিয়েছেন সংগঠনের প্রধান আকতার হোসাইন। এছাড়াও অনুষ্ঠানে শিল্পী হৃদয় খনের সাথে আরো থাকছে বাংলাদেশ আগত বাউল শিল্পী সায়রা রেজা ও নিউইয়র্কের জনপ্রিয় শিল্পী বকুল।
URL:https://www.dmvbanglaevents.com/event/%e0%a6%ab%e0%a7%8d%e0%a6%b0%e0%a7%87%e0%a6%a8%e0%a7%8d%e0%a6%a1%e0%a6%b8-%e0%a6%8f%e0%a6%a8%e0%a7%8d%e0%a6%a1-%e0%a6%ab%e0%a7%8d%e0%a6%af%e0%a6%be%e0%a6%ae%e0%a6%bf%e0%a6%b2%e0%a6%bf-%e0%a6%a1/
LOCATION:Laurel Hill Elementary School\, 8390 Laurel Crest Dr\, Lorton\, VA\, 22079\, United States
CATEGORIES:সাংস্কৃতিক অনুষ্ঠান
ATTACH;FMTTYPE=image/jpeg:https://www.dmvbanglaevents.com/wp-content/uploads/2018/12/fnfdmv.jpg
END:VEVENT
BEGIN:VEVENT
DTSTART;TZID=UTC:20190105T150000
DTEND;TZID=UTC:20190105T220000
DTSTAMP:20260424T011349
CREATED:20181228T072309Z
LAST-MODIFIED:20181228T072309Z
UID:487-1546700400-1546725600@www.dmvbanglaevents.com
SUMMARY:দেশি পিঠা মেলা
DESCRIPTION:
URL:https://www.dmvbanglaevents.com/event/%e0%a6%a6%e0%a7%87%e0%a6%b6%e0%a6%bf-%e0%a6%aa%e0%a6%bf%e0%a6%a0%e0%a6%be-%e0%a6%ae%e0%a7%87%e0%a6%b2%e0%a6%be/
LOCATION:VA
CATEGORIES:মেলা,সাংস্কৃতিক অনুষ্ঠান
ATTACH;FMTTYPE=image/jpeg:https://www.dmvbanglaevents.com/wp-content/uploads/2018/12/pithamela2019.jpg
END:VEVENT
BEGIN:VEVENT
DTSTART;TZID=UTC:20181223T163000
DTEND;TZID=UTC:20181223T200000
DTSTAMP:20260424T011349
CREATED:20181218T130445Z
LAST-MODIFIED:20181218T130445Z
UID:427-1545582600-1545595200@www.dmvbanglaevents.com
SUMMARY:OneMic\, An Evening with Storytellers
DESCRIPTION:Hello All\, \nWe are cordially inviting you to join an unique event\, OneMic. An evening of storytelling where you have an opportunity to listen to varies stories from our rising stars. \nLet’s celebrate the holiday season\, a time for good cheer and laughter. A time for friends and family. \n► But Tickets Here: https://onemic2018.eventbrite.com ◄ \nFormal Attire\nMen: Suit and Tie\nWomen: Gown or Desi formal \nSome refreshment will be served! \nSunday\, December 23\, 2018\n4:30 p.m. to 8:00 p.m.\nHylton Performing Arts Center\n10960 George Mason Cir\nManassas\, VA 20109 \n4:30 pm to 5:00 pm – Main doors open\, meet and greet\, pictures\, laughter\, etc.\n5:00 pm to 6 pm – Main event starts\n6:00 pm to 6:30 pm – Half time break; light refreshments will be served\, meet and greet\, conversations\, pictures\, etc.\n6:30 pm to 7:30 pm – Second main event continues\n7:30 pm to 8:00 pm – ending the night with cheers \nOneMic\, is produced by Kalpana Performing Arts Group (KPAG)\, sponsored by BAAI. \nEveryone has a story to tell but few have a platform to share it with others. This maiden event is for our next generation where they can express their personal views\, experience\, anecdotes\, including\, but not limited to school\, family\, culture and work. This platform can also become a networking forum among them and benefit mutually from this discourse/dialogue.
URL:https://www.dmvbanglaevents.com/event/onemic-an-evening-with-storytellers/
LOCATION:pin Hylton Performing Arts Center\, 10960 George Mason Cir\, Manassas\,\, VA\, 20110\, United States
CATEGORIES:সাংস্কৃতিক অনুষ্ঠান
ATTACH;FMTTYPE=image/jpeg:https://www.dmvbanglaevents.com/wp-content/uploads/2018/12/onemic.jpg
END:VEVENT
BEGIN:VEVENT
DTSTART;TZID=UTC:20181216T173000
DTEND;TZID=UTC:20181216T210000
DTSTAMP:20260424T011349
CREATED:20181228T065135Z
LAST-MODIFIED:20181228T065135Z
UID:456-1544981400-1544994000@www.dmvbanglaevents.com
SUMMARY:বিজয় দিবস ও "সূচনানুষ্ঠান" বই মেলা ২০১৯
DESCRIPTION:বিজয় দিবস ও গত ২০১৮ বই মেলার সকল সহযোগী দের নিয়ে আগামী বইমেলা ২০১৯ এর সূচনা অনুষ্ঠান। গানের ডালী নিয়ে থাকবেন থাকবেন\nশিল্পী অনুপ বড়ুয়া।
URL:https://www.dmvbanglaevents.com/event/%e0%a6%ac%e0%a6%bf%e0%a6%9c%e0%a7%9f-%e0%a6%a6%e0%a6%bf%e0%a6%ac%e0%a6%b8-%e0%a6%93-%e0%a6%b8%e0%a7%82%e0%a6%9a%e0%a6%a8%e0%a6%be%e0%a6%a8%e0%a7%81%e0%a6%b7%e0%a7%8d%e0%a6%a0%e0%a6%be%e0%a6%a8/
LOCATION:Arlington VA Public Library\, 1015 N Quincy St\, Arlington\, VA\, 22201\, United States
CATEGORIES:সাংস্কৃতিক অনুষ্ঠান
ATTACH;FMTTYPE=image/jpeg:https://www.dmvbanglaevents.com/wp-content/uploads/2018/12/boimela.jpg
END:VEVENT
BEGIN:VEVENT
DTSTART;TZID=UTC:20181215T150000
DTEND;TZID=UTC:20181215T210000
DTSTAMP:20260424T011349
CREATED:20180907T040634Z
LAST-MODIFIED:20180907T040721Z
UID:304-1544886000-1544907600@www.dmvbanglaevents.com
SUMMARY:তা থৈ এর বার্ষিক শো ২০১৮
DESCRIPTION:বিস্তারিত পরে জানানো হবে।
URL:https://www.dmvbanglaevents.com/event/%e0%a6%a4%e0%a6%be-%e0%a6%a5%e0%a7%88-%e0%a6%8f%e0%a6%b0-%e0%a6%ac%e0%a6%be%e0%a6%b0%e0%a7%8d%e0%a6%b7%e0%a6%bf%e0%a6%95-%e0%a6%b6%e0%a7%8b-%e0%a7%a8%e0%a7%a6%e0%a7%a7%e0%a7%ae/
LOCATION:VA
CATEGORIES:সাংস্কৃতিক অনুষ্ঠান
ATTACH;FMTTYPE=image/jpeg:https://www.dmvbanglaevents.com/wp-content/uploads/2018/09/ta-thi.jpg
END:VEVENT
BEGIN:VEVENT
DTSTART;TZID=UTC:20181027T180000
DTEND;TZID=UTC:20181027T220000
DTSTAMP:20260424T011349
CREATED:20180624T164105Z
LAST-MODIFIED:20180810T033920Z
UID:191-1540663200-1540677600@www.dmvbanglaevents.com
SUMMARY:উপহার বাংলাদেশ মেলা
DESCRIPTION:প্রতিবারের মত এবারও বিসিডিডিআই বাংলা স্কুল আয়োজন করতে যাচ্ছে উপহার বাংলাদেশ মেলা।
URL:https://www.dmvbanglaevents.com/event/upohar/
LOCATION:Thomas Jefferson High School for Science and Technology\, 6560 Braddock Rd\, Alexandria\, VA\, 22312\, United States
CATEGORIES:সাংস্কৃতিক অনুষ্ঠান
ATTACH;FMTTYPE=image/jpeg:https://www.dmvbanglaevents.com/wp-content/uploads/2018/06/upohar.jpg
ORGANIZER;CN="BCCDI":MAILTO:teambccdi@yahoo.com
END:VEVENT
BEGIN:VEVENT
DTSTART;TZID=UTC:20181019T190000
DTEND;TZID=UTC:20181021T210000
DTSTAMP:20260424T011349
CREATED:20181006T170009Z
LAST-MODIFIED:20181006T170803Z
UID:338-1539975600-1540155600@www.dmvbanglaevents.com
SUMMARY:Durga Puja 2018 by Sanskriti
DESCRIPTION:Sanskriti is inviting you to join the most joyful celebration of the year: \nDurgostav 2018 \nDates\nFriday\, October 19\, 6-11 PM\nSaturday\, October 20\, 9 AM – 11 PM\nSunday\, October 21\, 9 AM – 10 PM\nVenue \n\n\n\n\nRegistration Rates (same as 2017 rates)\n\n\n\nOnline Rate\nAt the Gate\n\n\n \nMember\nNon-member\nMember\nNon-Member\n\n\nAdult Single\n$95\n$105\n$115\n$125\n\n\nCouple\n$175\n$195\n$205\n$225\n\n\nStudent (w/ ID)\n$50\n$60\n$70\n$80\n\n\nEach Dependent Parent or Child (6-12 yrs)*\n$50\n$60\n$70\n$80\n\n\nFamily of 4 (2   parents + 2 children  6-12 yrs) *\n$225\n$250\n$255\n$275\n\n\n\n\n\n* Children below 6 are free
URL:https://www.dmvbanglaevents.com/event/durga-puja-2018-by-sanskriti/
LOCATION:Gaithersburg High School\, 101 Education Blvd.\, Gaithersburg\, MD\, 20877\, United States
CATEGORIES:সাংস্কৃতিক অনুষ্ঠান
ATTACH;FMTTYPE=image/jpeg:https://www.dmvbanglaevents.com/wp-content/uploads/2018/10/Songskriti.jpg
ORGANIZER;CN="Sanskriti":MAILTO:info@sanskriti-dc.org
END:VEVENT
BEGIN:VEVENT
DTSTART;TZID=UTC:20181013T100000
DTEND;TZID=UTC:20181013T200000
DTSTAMP:20260424T011349
CREATED:20180624T172848Z
LAST-MODIFIED:20180906T053718Z
UID:209-1539424800-1539460800@www.dmvbanglaevents.com
SUMMARY:নীলাচল দূর্গাপুজা
DESCRIPTION:Nilachal Invites you to 2018 Durga Puja on Saturday Oct 13th. We will come back to you on Durga Puja with more attarction\, more celebration and as usual our mind blowing decoration ! \nCultural show is from 3pm to 7pm. \nSidhur Khela is from 7pm to 8pm.
URL:https://www.dmvbanglaevents.com/event/nila/
LOCATION:Kilmer Middle School\, 8100 Wolftrap Rd\, Vienna\, VA\, 22182\, United States
CATEGORIES:সাংস্কৃতিক অনুষ্ঠান
END:VEVENT
BEGIN:VEVENT
DTSTART;TZID=UTC:20181012T180000
DTEND;TZID=UTC:20181014T220000
DTSTAMP:20260424T011349
CREATED:20180907T040044Z
LAST-MODIFIED:20180907T040316Z
UID:297-1539367200-1539554400@www.dmvbanglaevents.com
SUMMARY:NVBA দূর্গাপুজো ২০১৮
DESCRIPTION:উত্তর ভার্জিনিয়ার ২০১৮ সনের দূর্গা পুজোয় অংশগ্রহণে সকল বন্ধুদের আন্তরিক আমন্ত্রণ জানাচ্ছে Northern Virginia Bengali Association \nবছর ঘুরে আবার ফিরে এসেছে সবার আদরের শারদোৎসব\, আমাদের প্রিয় এবং প্রতীক্ষিত পুজো। আবার বাজবে বৎসরান্তের ঢাক\, শোনা যাবে উলু আর ঘন্টার আওয়াজ। তার সঙ্গে ফুলের গন্ধ \, নতুন শাড়ি\, আর অনেক বন্ধুত্ব। শেষমেশ কোলাকুলি। পেটপুরে খাওয়াও। \nঅনুষ্ঠান সূচি : \n১২ই অক্টোবর\, শুক্রবার \, বিকাল ৬ টা থেকে রাত ১০ টা \n১৩ই অক্টোবর\, শনিবার\, সকাল ১০ টা থেকে রাত ১০ টা \n১৪ই অক্টোবর\, রবিবার\, সকাল ১০ টা থেকে রাত ১০ টা
URL:https://www.dmvbanglaevents.com/event/nvba-%e0%a6%a6%e0%a7%82%e0%a6%b0%e0%a7%8d%e0%a6%97%e0%a6%be%e0%a6%aa%e0%a7%81%e0%a6%9c%e0%a7%8b-%e0%a7%a8%e0%a7%a6%e0%a7%a7%e0%a7%ae/
LOCATION:Park View High School\, 400 West Laurel Avenue\, Sterling\, VA\, 20164\, United States
CATEGORIES:সাংস্কৃতিক অনুষ্ঠান
ATTACH;FMTTYPE=image/jpeg:https://www.dmvbanglaevents.com/wp-content/uploads/2018/09/pujo2018.jpg
ORGANIZER;CN="Northern Virginia Bengali Association":MAILTO:novabacommittee@yahoo.com
END:VEVENT
BEGIN:VEVENT
DTSTART;TZID=UTC:20180922T110000
DTEND;TZID=UTC:20180922T193000
DTSTAMP:20260424T011349
CREATED:20180611T063846Z
LAST-MODIFIED:20180907T034259Z
UID:111-1537614000-1537644600@www.dmvbanglaevents.com
SUMMARY:প্রিয় বাংলা পথ মেলা
DESCRIPTION:প্রতিবারের মত এবারও ডিএমভি এলাকার জনপ্রিয় এবং জমজমাট মাল্টিকালচারাল পথমেলার আয়োজন করতে যাচ্ছে প্রিয়বাংলা। বাংলা সাংস্কৃতিক অনুষ্ঠানের পাশাপাশি এই পথমেলায় সাধারনত থাকে স্প্যানিশ\, পেরুভিয়ান\, বলিভিয়ানসহ নানা বৈচিত্রময় সাংস্কৃতিক পরিবেশনা। পথমেলা অনুষ্ঠিত হবে সেপ্টেম্বরের ২২ তারিখ।
URL:https://www.dmvbanglaevents.com/event/priyobangla/
LOCATION:পথমেলা\, 880 S. Walter Reed Drive\, Arlington\, VA\, United States
CATEGORIES:সাংস্কৃতিক অনুষ্ঠান
ATTACH;FMTTYPE=image/jpeg:https://www.dmvbanglaevents.com/wp-content/uploads/2018/06/34719497_1763490643735643_8057953049294929920_n.jpg
END:VEVENT
BEGIN:VEVENT
DTSTART;TZID=UTC:20180915T080000
DTEND;TZID=UTC:20180916T220000
DTSTAMP:20260424T011349
CREATED:20180611T062918Z
LAST-MODIFIED:20180621T115834Z
UID:102-1536998400-1537135200@www.dmvbanglaevents.com
SUMMARY:১৭তম নর্থ এমেরিকা নজরুল কনভেনশন
DESCRIPTION:আগামী ১১ ও ১২ আগস্ট উত্তর আমেরিকার ১৭তম নজরুল সম্মেলনে উপস্থিত থাকবেন বাংলাদেশ ও পশ্চিম বাংলার একাধিক গুণী শিল্পী ও বিশিষ্ট নজরুল গবেষক।\nদুদিনব্যাপী এ সম্মেলনে আপনাদের সবাইকে আন্তরিক আমন্ত্রণ।
URL:https://www.dmvbanglaevents.com/event/%e0%a7%a7%e0%a7%ad%e0%a6%a4%e0%a6%ae-%e0%a6%a8%e0%a6%b0%e0%a7%8d%e0%a6%a5-%e0%a6%8f%e0%a6%ae%e0%a7%87%e0%a6%b0%e0%a6%bf%e0%a6%95%e0%a6%be-%e0%a6%a8%e0%a6%9c%e0%a6%b0%e0%a7%81%e0%a6%b2-%e0%a6%95/
LOCATION:NOVA Arts Center\, 8333 Little River Turnpike\, Annandale\, VA\, 22003\, United States
CATEGORIES:সাংস্কৃতিক অনুষ্ঠান,সাহিত্য
ATTACH;FMTTYPE=image/png:https://www.dmvbanglaevents.com/wp-content/uploads/2018/06/nazrulConf.png
END:VEVENT
BEGIN:VEVENT
DTSTART;TZID=UTC:20180908T183000
DTEND;TZID=UTC:20180908T223000
DTSTAMP:20260424T011349
CREATED:20180701T203302Z
LAST-MODIFIED:20180810T044009Z
UID:219-1536431400-1536445800@www.dmvbanglaevents.com
SUMMARY:রংতুলি পরিবেশনা-Manna Dey Night and Fashion Show
DESCRIPTION:এবারের রংতুলির আয়োজনে থাকছে মান্না দের গান। পরিবেশন করবেন কোলকাতার শান্তনু ভৌমিক। সাথে থাকছে প্রথম বারের মত নর্থ আমেরিকায় বাংলাদেশের স্বনামধন্য় তিন ব্রান্ডের ফ্যাশন শো। শোতে অংশ নিচ্ছে বিশ্বরঙ\, কে ক্রাফ্ট্স এবং বিবিয়ানা। পাবেন  দেশীয় তাতের শাড়ি\, জামদানি শাড়ি আর গহনা।
URL:https://www.dmvbanglaevents.com/event/rongtuli/
LOCATION:Lanier Middle School\, 3801 Jermantown Rd\, Fairfax\, VA\, 22030\, United States
CATEGORIES:সাংস্কৃতিক অনুষ্ঠান
ATTACH;FMTTYPE=image/jpeg:https://www.dmvbanglaevents.com/wp-content/uploads/2018/07/rongtuli.jpg
END:VEVENT
BEGIN:VEVENT
DTSTART;TZID=UTC:20180804T180000
DTEND;TZID=UTC:20180804T220000
DTSTAMP:20260424T011349
CREATED:20180728T144107Z
LAST-MODIFIED:20180728T144245Z
UID:242-1533405600-1533420000@www.dmvbanglaevents.com
SUMMARY:রবীন্দ্র সঙ্গীত সন্ধ্যা- সালমা আকবর ও সাজেদ আকবর
DESCRIPTION:  \nশিল্পী সালমা আকবর ও সাজেদ আকবর রবীন্দ্র সঙ্গীত ভুবনে একটি অতি পরিচিত নাম। শিল্পী দম্পতি বাংলাদেশ টেলিভিশনসহ বিভিন্ন টিভি চ্যানল এবং বাংলাদেশ বেতারের নিয়মিত শিল্পী। উভয়েই দেশের সাংস্কৃতিক পরিমন্ডলে স্বনামধন্য ব্যক্তিত্ব এবং দেশে বিদেশে অসংখ্য অনুষ্ঠানে রবীন্দ্র সঙ্গীতে পরিবেশন করে শ্রোতা-দর্শকদের মন জয় করে নিয়েছেন। আজ তাদেরই আমরা সাথে পাচ্ছি আয়োজিত এই সঙ্গীত সন্ধ্যায় প্রান ভরে গান শোনার জন্য। আপনাদের সবাইকে এই সুন্দর সঙ্গীত সন্ধ্যায় আমন্ত্রন জানাচ্ছে Bangladesh Association of Greater Washington DC – BAGWDC \n  \nAddress:  \n3514 Woodburn Rd\, Annandale\, VA 22003 \nPlease RSVP: \n703-626-5814\, 571-552-2168\, 7103-944-2389
URL:https://www.dmvbanglaevents.com/event/bagwdc_event_tagore/
LOCATION:VA
CATEGORIES:গান,সাংস্কৃতিক অনুষ্ঠান
ATTACH;FMTTYPE=image/jpeg:https://www.dmvbanglaevents.com/wp-content/uploads/2018/07/BAGWDc1.jpg
ORGANIZER;CN="BAGWDC":MAILTO:bagwdc2017@gmail.com
END:VEVENT
BEGIN:VEVENT
DTSTART;TZID=UTC:20180729T100000
DTEND;TZID=UTC:20180729T150000
DTSTAMP:20260424T011349
CREATED:20180712T014452Z
LAST-MODIFIED:20180717T123621Z
UID:229-1532858400-1532876400@www.dmvbanglaevents.com
SUMMARY:চাঁটগাইয়া মেজবান ২০১৮
DESCRIPTION:মেজবান (ফারসি:میزبان) বাংলাদেশের বৃহত্তর চট্টগ্রাম এলাকার বহুমাত্রিক ঐতিহ্যবাহী একটি অনুষ্ঠান। চট্টগ্রামের ভাষায় একে মেজ্জান বলা হয়। সাধারণত কারো মৃত্যুর পর কুলখানি\, চেহলাম\, মৃত্যুবার্ষিকী\, শিশুর জন্মের পর আকিকা উপলক্ষে\, ধর্মীয় ব্যক্তির মৃত্যুবার্ষিকীতে মেজবানের আয়োজন করা হয়। এছাড়া নির্দিষ্ট উপলক্ষ ছাড়া বা কোনো শুভ ঘটনার জন্যও মেজবান করা হয়।
URL:https://www.dmvbanglaevents.com/event/mezban2018/
LOCATION:Fort Hunt Park Alexandria\, 8999 Fort Hunt Rd\, Alexandria\, VA\, 22308\, United States
CATEGORIES:বনভোজন,সাংস্কৃতিক অনুষ্ঠান
ATTACH;FMTTYPE=image/jpeg:https://www.dmvbanglaevents.com/wp-content/uploads/2018/07/37F51C6E-5F0C-4D76-BDBA-5D0D84E3563A-dewan-ali.jpeg
ORGANIZER;CN="%E0%A6%9A%E0%A6%BE%E0%A6%81%E0%A6%9F%E0%A6%97%E0%A6%BE%E0%A6%87%E0%A6%AF%E0%A6%BC%E0%A6%BE %E0%A6%AE%E0%A7%87%E0%A6%9C%E0%A6%AC%E0%A6%BE%E0%A6%A8 %E0%A6%9F%E0%A6%BF%E0%A6%AE":MAILTO:Chatgaiamezban@gmail.com
END:VEVENT
BEGIN:VEVENT
DTSTART;TZID=UTC:20180728T180000
DTEND;TZID=UTC:20180728T203000
DTSTAMP:20260424T011349
CREATED:20180610T034848Z
LAST-MODIFIED:20180611T060444Z
UID:13-1532800800-1532809800@www.dmvbanglaevents.com
SUMMARY:বলো কি তোমার ক্ষতি
DESCRIPTION:  \nহৃদয়বীণা আগামী ২৮শে জুলাই “বলো কি তোমার ক্ষতি…” শীর্ষক একটি সাংস্কৃতিক অনুষ্ঠানের  আয়োজন করতে যাচ্ছে। কমিউনিটির ক্ষুধার্ত শিশুদের জন্য অনুষ্ঠানে ফুড ড্রাইভেরও আয়োজন করছেন আয়োজকরা। গত বছরের  রবীন্দ্র-নজরুল জয়ন্তী অনুষ্ঠানের অর্থ এবং খাদ্য ক্যাপিটাল ফুড ব্যাংকে দান করা হয়।
URL:https://www.dmvbanglaevents.com/event/%e0%a6%ac%e0%a6%b2%e0%a7%8b-%e0%a6%95%e0%a6%bf-%e0%a6%a4%e0%a7%8b%e0%a6%ae%e0%a6%be%e0%a6%b0-%e0%a6%95%e0%a7%8d%e0%a6%b7%e0%a6%a4%e0%a6%bf/
LOCATION:James Lee Community Center\, 2855 Annandale Rd\, Falls Church\, VA\, 22042\, United States
CATEGORIES:সাংস্কৃতিক অনুষ্ঠান
ATTACH;FMTTYPE=image/jpeg:https://www.dmvbanglaevents.com/wp-content/uploads/2018/06/31906915_1016754855150332_7833906617170001920_n.jpg
END:VEVENT
BEGIN:VEVENT
DTSTART;TZID=UTC:20180707T150000
DTEND;TZID=UTC:20180707T180000
DTSTAMP:20260424T011349
CREATED:20180621T122832Z
LAST-MODIFIED:20180621T122832Z
UID:180-1530975600-1530986400@www.dmvbanglaevents.com
SUMMARY:An Evening with Srijato and Angshuman
DESCRIPTION:Godyo Podyer Ashor (GPA)\, in collaboration with Ebong TheatriX\, is hosting two highly acclaimed poets from Kolkata – Srijato Bandopadhyaya and Angshuman Kar on July 7th\, 2018 at the Cabin John Middle School from 3 pm to 6 pm. During the program\, our guests will discuss the current development of Bengali literature\, with emphasis on Bengali poetry. Details of this event are presented below. \nTicket: $10 per person (at the gate) or\nOnline – https://www.ebongtheatrix.org/shop\nFor more Information Contact\nLokesh Bhattacharya (240-997-4794) &\nDibyendu Paul (301-366-1601)
URL:https://www.dmvbanglaevents.com/event/an-evening-with-srijato-and-angshuman/
LOCATION:Cabin John Middle School\, 10701 Gainsborough Rd\, Potomac\, MD\, 20854\, United States
CATEGORIES:কবিতা,সাংস্কৃতিক অনুষ্ঠান,সাহিত্য
ATTACH;FMTTYPE=image/jpeg:https://www.dmvbanglaevents.com/wp-content/uploads/2018/06/golpo.jpg
ORGANIZER;CN="Ebong TheatriX":MAILTO:ebong@ebongtheatrix.org
END:VEVENT
END:VCALENDAR