BEGIN:VCALENDAR
VERSION:2.0
PRODID:-//Bangali Events in DC, Maryland and Virginia - ECPv6.15.20//NONSGML v1.0//EN
CALSCALE:GREGORIAN
METHOD:PUBLISH
X-ORIGINAL-URL:https://www.dmvbanglaevents.com
X-WR-CALDESC:Events for Bangali Events in DC, Maryland and Virginia
REFRESH-INTERVAL;VALUE=DURATION:PT1H
X-Robots-Tag:noindex
X-PUBLISHED-TTL:PT1H
BEGIN:VTIMEZONE
TZID:UTC
BEGIN:STANDARD
TZOFFSETFROM:+0000
TZOFFSETTO:+0000
TZNAME:UTC
DTSTART:20170101T000000
END:STANDARD
END:VTIMEZONE
BEGIN:VEVENT
DTSTART;TZID=UTC:20201122T160000
DTEND;TZID=UTC:20201122T190000
DTSTAMP:20260423T190657
CREATED:20200309T040217Z
LAST-MODIFIED:20200309T040217Z
UID:807-1606060800-1606071600@www.dmvbanglaevents.com
SUMMARY:Shapmochon (Absolved Curse)
DESCRIPTION:SUNDAY\, NOVEMBER 22\, 2020 AT 4 PM – 7 PM EST\n\n\nBender JCC of Greater Washington
URL:https://www.dmvbanglaevents.com/event/shapmochon-absolved-curse/
LOCATION:Bender JCC of Greater Washington\, 6125 Montrose Rd\, Rockville\, MD\, 20852\, United States
CATEGORIES:নাটক
ATTACH;FMTTYPE=image/jpeg:https://www.dmvbanglaevents.com/wp-content/uploads/2020/03/shap.jpg
ORGANIZER;CN="Kahlar":MAILTO:music_group@kahlar.com
END:VEVENT
BEGIN:VEVENT
DTSTART;TZID=UTC:20200912T190000
DTEND;TZID=UTC:20200912T220000
DTSTAMP:20260423T190657
CREATED:20200111T040133Z
LAST-MODIFIED:20200111T040133Z
UID:724-1599937200-1599948000@www.dmvbanglaevents.com
SUMMARY:ঊর্মি
DESCRIPTION:সকলের জন্য উন্মুক্ত \nডূয়াফি প্রযোজিত ও পরিবেশিত মঞ্চ নাটক “ঊর্মি” । \nতারিখ ও সময়টি আপনাদের মুঠোফোনে অথবা পঞ্জিকায় সংরক্ষণ করুন।\nটিকেট পাওয়া যাবে ডুয়াফির অন্তর্জালে (www.duafi.org) আগামী ১লা জুলাই\, ২০২০ থেকে।
URL:https://www.dmvbanglaevents.com/event/%e0%a6%8a%e0%a6%b0%e0%a7%8d%e0%a6%ae%e0%a6%bf/
LOCATION:Bender JCC of Greater Washington\, 6125 Montrose Rd\, Rockville\, MD\, 20852\, United States
CATEGORIES:নাটক
ATTACH;FMTTYPE=image/jpeg:https://www.dmvbanglaevents.com/wp-content/uploads/2020/01/urmi.jpg
ORGANIZER;CN="DUAFI":MAILTO:DUAFInc@yahoo.com
END:VEVENT
BEGIN:VEVENT
DTSTART;TZID=UTC:20200822T110000
DTEND;TZID=UTC:20200823T210000
DTSTAMP:20260423T190657
CREATED:20200309T035256Z
LAST-MODIFIED:20200309T035256Z
UID:796-1598094000-1598216400@www.dmvbanglaevents.com
SUMMARY:Ebong Natyotsav
DESCRIPTION:SATURDAY\, AUGUST 22\, 2020 AT 11 AM – AUGUST 23\, 2020\n9 PM EDT\nF. Scott Fitzgerald Theatre \n  \nTwo-Day Theater Festival Featuring Two Plays by Debshanker Halder and Ushneek from Kolkata\, India.\nPlus numerous teams from all over U.S
URL:https://www.dmvbanglaevents.com/event/ebong-natyotsav/
LOCATION:F. Scott Fitzgerald Theatre\, 603 Edmonston Dr\, Rockville\, MD 20851
CATEGORIES:নাটক
ATTACH;FMTTYPE=image/jpeg:https://www.dmvbanglaevents.com/wp-content/uploads/2020/03/ebong.jpg
ORGANIZER;CN="Ebong TheatriX":MAILTO:ebong@ebongtheatrix.org
END:VEVENT
BEGIN:VEVENT
DTSTART;TZID=UTC:20200222T180000
DTEND;TZID=UTC:20200222T210000
DTSTAMP:20260423T190657
CREATED:20200111T032759Z
LAST-MODIFIED:20200111T032759Z
UID:705-1582394400-1582405200@www.dmvbanglaevents.com
SUMMARY:ডিসি একুশে এলায়েন্স আয়োজিত অমর একুশে উদযাপন অনুষ্ঠান
DESCRIPTION:আগামী ২২ শে ফেব্রুয়ারী\, ২০২০ শনিবার সন্ধ্যা ৬ টায় অনুষ্ঠিত হতে যাচ্ছে ডি\, সি\, একুশে এলায়েন্স আয়োজিত অমর একুশে উদযাপন অনুষ্ঠান। এবারের অনুষ্ঠানের সার্বিক দায়িত্বে রয়েছে প্রিয় বাংলা\, ইনক্। বরাবরের মত এবারও ডি\, সি\, মেট্রো এরিয়ার প্রায় ২০ টি সংগঠন এতে অংশ নেবে।
URL:https://www.dmvbanglaevents.com/event/%e0%a6%a1%e0%a6%bf%e0%a6%b8%e0%a6%bf-%e0%a6%8f%e0%a6%95%e0%a7%81%e0%a6%b6%e0%a7%87-%e0%a6%8f%e0%a6%b2%e0%a6%be%e0%a7%9f%e0%a7%87%e0%a6%a8%e0%a7%8d%e0%a6%b8-%e0%a6%86%e0%a7%9f%e0%a7%8b%e0%a6%9c/
LOCATION:Thomas Jefferson Middle School\, 125 South Old Glebe Road Arlington\, VA 22204
CATEGORIES:কবিতা,গান,নাটক,সাংস্কৃতিক অনুষ্ঠান
ATTACH;FMTTYPE=image/jpeg:https://www.dmvbanglaevents.com/wp-content/uploads/2020/01/dcea.jpg
END:VEVENT
BEGIN:VEVENT
DTSTART;TZID=UTC:20190504T170000
DTEND;TZID=UTC:20190504T220000
DTSTAMP:20260423T190657
CREATED:20190126T200650Z
LAST-MODIFIED:20190302T174656Z
UID:558-1556989200-1557007200@www.dmvbanglaevents.com
SUMMARY:BAAI এর বৈশাখী জলসা
DESCRIPTION:
URL:https://www.dmvbanglaevents.com/event/baai-%e0%a6%8f%e0%a6%b0-%e0%a6%ac%e0%a7%88%e0%a6%b6%e0%a6%be%e0%a6%96%e0%a7%80-%e0%a6%9c%e0%a6%b2%e0%a6%b8%e0%a6%be/
LOCATION:Cabin John Middle School\, 10701 Gainsborough Rd\, Potomac\, MD\, 20854\, United States
CATEGORIES:গান,নাটক,মেলা,সাংস্কৃতিক অনুষ্ঠান
ATTACH;FMTTYPE=image/jpeg:https://www.dmvbanglaevents.com/wp-content/uploads/2019/01/BAAAI.jpg
END:VEVENT
BEGIN:VEVENT
DTSTART;TZID=UTC:20190504T170000
DTEND;TZID=UTC:20190504T210000
DTSTAMP:20260423T190657
CREATED:20190302T171358Z
LAST-MODIFIED:20190302T171520Z
UID:644-1556989200-1557003600@www.dmvbanglaevents.com
SUMMARY:Baisakhi 2019 by  Sanskriti
DESCRIPTION:An evening of music\, dance\, natok\, adda with moori and cha\, followed by dinner!
URL:https://www.dmvbanglaevents.com/event/baisakhi-2019-by-sanskriti/
LOCATION:Lakelands Park Middle School\, 1200 Main Street\, Gaithersburg\, MD\, 20878\, United States
CATEGORIES:গান,নাটক,সাংস্কৃতিক অনুষ্ঠান
ATTACH;FMTTYPE=image/jpeg:https://www.dmvbanglaevents.com/wp-content/uploads/2019/03/shangskriti.jpg
ORGANIZER;CN="Sanskriti":MAILTO:info@sanskriti-dc.org
END:VEVENT
BEGIN:VEVENT
DTSTART;TZID=UTC:20181117T183000
DTEND;TZID=UTC:20181117T220000
DTSTAMP:20260423T190657
CREATED:20180809T124446Z
LAST-MODIFIED:20181006T163332Z
UID:260-1542479400-1542492000@www.dmvbanglaevents.com
SUMMARY:দর্পণ - শেক্সপিয়ারের হেমলেট অবলম্বনে নাটক
DESCRIPTION:দু’পার বাংলার নাট্যবন্ধুদের নিয়ে ধ্রুপদ থিয়েটারের এবারের আয়োজন “দর্পণ”। উইলিয়াম শেক্সপিয়রের “হ্যামলেট” অবলম্বনে এই নাটকটি রচনা করেছেন বাংলা নাট্যজগতের জনপ্রিয় ব্যাক্তিত্ব আলী যাকের। জাফর রহমানের নির্দেশনায় “দর্পণ” নাটকটি প্রদর্শিত হবে জর্জ মেসন ইউনিভার্সিটির হ্যারিস থিয়েটারে\, আগামী ১৭ই নভেম্বর সন্ধ্যা সাড়ে ছয়টায়। \nনাটকের কলাকুশলীরা হলেনঃ Zafor Rahman\, Shantanu Bagchi\, Shafiqul Islam\,Paroma Sanyal\, Rima Ray\, Taufique Hassan\, Rahat E-Afza\, Mizanur Rahman Khan\,KulSum Alam Khuki\, Abu Sarkar\, Daniel Kuddus\, Tilok K Kar\, Pranab Barua\,Maria Islam Jahin\, Sumayta Kabir\, Tanusree Dutta\, Sarah Newaz Ludmila\, Shahriar Absar\, Md. Shahinoor Rahman\, Ashim Rana\, Tazzy Spazzy\, Abu Rumi\, Mohammad Majid\, Hiron Choudhury\, Chaman Jamil
URL:https://www.dmvbanglaevents.com/event/%e0%a6%a6%e0%a6%b0%e0%a7%8d%e0%a6%aa%e0%a6%a8-%e0%a6%b6%e0%a7%87%e0%a6%95%e0%a7%8d%e0%a6%b8%e0%a6%aa%e0%a6%bf%e0%a7%9f%e0%a6%be%e0%a6%b0%e0%a7%87%e0%a6%b0-%e0%a6%b9%e0%a7%87%e0%a6%ae%e0%a6%b2/
LOCATION:Harris Theater\, Harris Theatre\, George Mason University\, Fairfax\, VA\, 22030\, United States
CATEGORIES:নাটক
ATTACH;FMTTYPE=image/jpeg:https://www.dmvbanglaevents.com/wp-content/uploads/2018/08/dorpon_09.14.2018.jpg
ORGANIZER;CN="Drhoopad":MAILTO:dhroopad@dhroopad.org
END:VEVENT
BEGIN:VEVENT
DTSTART;TZID=UTC:20180929T183000
DTEND;TZID=UTC:20180929T220000
DTSTAMP:20260423T190657
CREATED:20180611T055011Z
LAST-MODIFIED:20180928T125106Z
UID:92-1538245800-1538258400@www.dmvbanglaevents.com
SUMMARY:চন্দ্রাবতী - a Bengali Folk Musical Presentation by একতারা
DESCRIPTION:বাংলা লোকসাহিত্য নির্ভর গীতল নাটক পরিবেশনের জন্য একতারা ডিএমভি এলাকার বাঙালিদের মনে বিশেষ জায়গা করে নিয়েছে। মহাজনের নাও\, মহুয়ার মত অত্যন্ত্য দর্শকনন্দিত পরিবেশনার ধারায় এবার একতারা নিয়ে আসছে চন্দ্রাবতী। গীতল নাটকটি অনুষ্ঠিত হবে সেপ্টেম্বরের ২৯ তারিখ।
URL:https://www.dmvbanglaevents.com/event/%e0%a6%9a%e0%a6%a8%e0%a7%8d%e0%a6%a6%e0%a7%8d%e0%a6%b0%e0%a6%be%e0%a6%ac%e0%a6%a4%e0%a7%80-a-bengali-folk-musical-presentation-by-%e0%a6%8f%e0%a6%95%e0%a6%a4%e0%a6%be%e0%a6%b0%e0%a6%be/
LOCATION:Thomas A. Edison High School\, 5801 Franconia Rd\, Alexandria\, VA\, 22310\, United States
CATEGORIES:নাটক
ATTACH;FMTTYPE=image/jpeg:https://www.dmvbanglaevents.com/wp-content/uploads/2018/06/32260456_1914994625187003_480568748357451776_n.jpg
END:VEVENT
END:VCALENDAR