BEGIN:VCALENDAR
VERSION:2.0
PRODID:-//Bangali Events in DC, Maryland and Virginia - ECPv6.15.20//NONSGML v1.0//EN
CALSCALE:GREGORIAN
METHOD:PUBLISH
X-ORIGINAL-URL:https://www.dmvbanglaevents.com
X-WR-CALDESC:Events for Bangali Events in DC, Maryland and Virginia
REFRESH-INTERVAL;VALUE=DURATION:PT1H
X-Robots-Tag:noindex
X-PUBLISHED-TTL:PT1H
BEGIN:VTIMEZONE
TZID:UTC
BEGIN:STANDARD
TZOFFSETFROM:+0000
TZOFFSETTO:+0000
TZNAME:UTC
DTSTART:20170101T000000
END:STANDARD
END:VTIMEZONE
BEGIN:VEVENT
DTSTART;TZID=UTC:20190309T190000
DTEND;TZID=UTC:20190309T220000
DTSTAMP:20260424T024022
CREATED:20190207T105635Z
LAST-MODIFIED:20190207T111100Z
UID:570-1552158000-1552168800@www.dmvbanglaevents.com
SUMMARY:Charity Concert
DESCRIPTION:We are bringing Saregamapa star Jeffrey Iqbal and Desi Rain band to sing for the event. We are raising funds to help women who are victims of sex-trafficking.\nAll the funds will go to help them get empowered and your donation is tax deductible as W4E is a non- profit organization. \nTicket Prices: $25\,$45\, $65\, $85\, $100\, $125\nTicket Link: https://www.hungamacity.com/seating/18030/jeffrey-iqbal-live-in-concert
URL:https://www.dmvbanglaevents.com/event/charity-concert/
LOCATION:High Point High School\, 3502\,3601 Powder Mill Rd\, Beltsville\, MD\, 20705\, United States
CATEGORIES:গান,তহবিল সংগ্রহ,সাংস্কৃতিক অনুষ্ঠান
ATTACH;FMTTYPE=image/jpeg:https://www.dmvbanglaevents.com/wp-content/uploads/2019/02/Samina-Chowdhury.jpeg
ORGANIZER;CN="Women 4 Empowerment":MAILTO:Samina@boblucidoteam.com
END:VEVENT
BEGIN:VEVENT
DTSTART;TZID=UTC:20190112T180000
DTEND;TZID=UTC:20190112T210000
DTSTAMP:20260424T024022
CREATED:20181228T064234Z
LAST-MODIFIED:20181228T064234Z
UID:453-1547316000-1547326800@www.dmvbanglaevents.com
SUMMARY:BCCDI 'Bangla School' Fund Raising Dinner
DESCRIPTION:Dear Community Members\,\nGreetings! Bangladesh Center for Community Development Inc. (BCCDI)\, a non-profit 501-C(3) organization\, has been running Bangla School since 1987 in the Washington DC area. In the past\, we have run the school in the Gunston Community Center in Arlington.  Since 2016\, we have been moving our school to multiple different locations as the Gunston Community Center. Due to new configurations of its rooms and reservation policy\, it can no longer accommodate us.\n\nBCCDI desperately needs a permanent home for its school.  We’re actively looking for a commercial property that can accommodate our children and parents for the weekend school. Every Saturday our children come to learn Bangla\, Arabic\, Pali\, Music and Dance from 10:00 am to 4:00 pm.\n\nWe need your help and participation in raising funds for the Bangla School location.  We invite you to join the Bangla School Fundraising Dinner and Musical Night on Saturday\, January 12th at 6:00 pm at Holiday Inn Express\, 6401 Brandon Ave\, Springfield\, VA 22150. Tickets: $100/ per person\, $25 for children and free for 4 years and under.  You can pay at PayPal: teambccdi2018@gmail.com.\n\nIf you cannot attend the event\, your donation would still be greatly appreciated. All proceeds/donation will go towards a permanent location for Bangla School. Thank you once again for your support and patronage!\n\nBest\,\nBCCDI Board of Directors
URL:https://www.dmvbanglaevents.com/event/bccdi-bangla-school-fund-raising-dinner/
LOCATION:Holiday Inn Express\, 6401 Brandon Ave\, Springfield\, 22150\, United States
CATEGORIES:তহবিল সংগ্রহ
ATTACH;FMTTYPE=image/png:https://www.dmvbanglaevents.com/wp-content/uploads/2018/06/BCCDI_Bangla-1-shimulmou.png
ORGANIZER;CN="BCCDI":MAILTO:teambccdi@yahoo.com
END:VEVENT
BEGIN:VEVENT
DTSTART;TZID=UTC:20181110T190000
DTEND;TZID=UTC:20181110T230000
DTSTAMP:20260424T024022
CREATED:20180810T032555Z
LAST-MODIFIED:20180810T032804Z
UID:274-1541876400-1541890800@www.dmvbanglaevents.com
SUMMARY:Fundraising Dinner for BCCDI Bangla school
DESCRIPTION:বিসিডিডিআই বাংলা স্কুলের জন্য তহবিল সংগ্রহ অনুষ্ঠান আয়োজিত হতে যাচ্ছে নভেম্বরের ১০ তারিখ। অনুষ্ঠানের বিস্তারিত বিবরণ শীঘ্রই জানানো হবে।
URL:https://www.dmvbanglaevents.com/event/fundraising-dinner-for-bccdi-bangla-school/
LOCATION:MD
CATEGORIES:তহবিল সংগ্রহ
ORGANIZER;CN="BCCDI":MAILTO:teambccdi@yahoo.com
END:VEVENT
END:VCALENDAR