BEGIN:VCALENDAR
VERSION:2.0
PRODID:-//Bangali Events in DC, Maryland and Virginia - ECPv6.15.20//NONSGML v1.0//EN
CALSCALE:GREGORIAN
METHOD:PUBLISH
X-ORIGINAL-URL:https://www.dmvbanglaevents.com
X-WR-CALDESC:Events for Bangali Events in DC, Maryland and Virginia
REFRESH-INTERVAL;VALUE=DURATION:PT1H
X-Robots-Tag:noindex
X-PUBLISHED-TTL:PT1H
BEGIN:VTIMEZONE
TZID:UTC
BEGIN:STANDARD
TZOFFSETFROM:+0000
TZOFFSETTO:+0000
TZNAME:UTC
DTSTART:20170101T000000
END:STANDARD
END:VTIMEZONE
BEGIN:VEVENT
DTSTART;TZID=UTC:20190427T190000
DTEND;TZID=UTC:20190427T230000
DTSTAMP:20260423T214548
CREATED:20190106T160724Z
LAST-MODIFIED:20190106T160902Z
UID:508-1556391600-1556406000@www.dmvbanglaevents.com
SUMMARY:Boishakher Amontrone - A Musical Show with Shreya Guhathakurta
DESCRIPTION:Mesmerising Musical show with Shreya Guhathakurta along with her students with a spirit of Bengali New Year (Noboborsho). A grand show in the heart of DC. You are all invited.
URL:https://www.dmvbanglaevents.com/event/amazing-musical-show-with-shreya-guhathakurta/
LOCATION:TBA
CATEGORIES:গান
ATTACH;FMTTYPE=image/jpeg:https://www.dmvbanglaevents.com/wp-content/uploads/2019/01/shreya.jpg
END:VEVENT
BEGIN:VEVENT
DTSTART;TZID=UTC:20190414T150000
DTEND;TZID=UTC:20190414T210000
DTSTAMP:20260423T214548
CREATED:20190126T194230Z
LAST-MODIFIED:20190126T194230Z
UID:545-1555254000-1555275600@www.dmvbanglaevents.com
SUMMARY:বৈশাখী পিঠা উৎসব
DESCRIPTION:
URL:https://www.dmvbanglaevents.com/event/%e0%a6%ac%e0%a7%88%e0%a6%b6%e0%a6%be%e0%a6%96%e0%a7%80-%e0%a6%aa%e0%a6%bf%e0%a6%a0%e0%a6%be-%e0%a6%89%e0%a7%8e%e0%a6%b8%e0%a6%ac/
LOCATION:Gala Center\, 1700 Hill Dr\, Windsor Mill\, MD\, 21244\, United States
CATEGORIES:গান,মেলা,সাংস্কৃতিক অনুষ্ঠান
ATTACH;FMTTYPE=image/jpeg:https://www.dmvbanglaevents.com/wp-content/uploads/2019/01/fnfbultimor.jpg
END:VEVENT
BEGIN:VEVENT
DTSTART;TZID=UTC:20190331T140000
DTEND;TZID=UTC:20190331T220000
DTSTAMP:20260423T214548
CREATED:20190303T131604Z
LAST-MODIFIED:20190303T131604Z
UID:663-1554040800-1554069600@www.dmvbanglaevents.com
SUMMARY:১৪২৬ বৈশাখী মেলা
DESCRIPTION:
URL:https://www.dmvbanglaevents.com/event/boishakhishadesh19/
LOCATION:Holiday Inn Gaithersburg\, 2 Montgomery Village Ave\, Gaithersburg\, MD\, 20879\, United States
CATEGORIES:গান,মেলা,সাংস্কৃতিক অনুষ্ঠান
ATTACH;FMTTYPE=image/jpeg:https://www.dmvbanglaevents.com/wp-content/uploads/2019/03/swadesh.jpg
END:VEVENT
BEGIN:VEVENT
DTSTART;TZID=UTC:20190309T190000
DTEND;TZID=UTC:20190309T220000
DTSTAMP:20260423T214548
CREATED:20190207T105635Z
LAST-MODIFIED:20190207T111100Z
UID:570-1552158000-1552168800@www.dmvbanglaevents.com
SUMMARY:Charity Concert
DESCRIPTION:We are bringing Saregamapa star Jeffrey Iqbal and Desi Rain band to sing for the event. We are raising funds to help women who are victims of sex-trafficking.\nAll the funds will go to help them get empowered and your donation is tax deductible as W4E is a non- profit organization. \nTicket Prices: $25\,$45\, $65\, $85\, $100\, $125\nTicket Link: https://www.hungamacity.com/seating/18030/jeffrey-iqbal-live-in-concert
URL:https://www.dmvbanglaevents.com/event/charity-concert/
LOCATION:High Point High School\, 3502\,3601 Powder Mill Rd\, Beltsville\, MD\, 20705\, United States
CATEGORIES:গান,তহবিল সংগ্রহ,সাংস্কৃতিক অনুষ্ঠান
ATTACH;FMTTYPE=image/jpeg:https://www.dmvbanglaevents.com/wp-content/uploads/2019/02/Samina-Chowdhury.jpeg
ORGANIZER;CN="Women 4 Empowerment":MAILTO:Samina@boblucidoteam.com
END:VEVENT
BEGIN:VEVENT
DTSTART;TZID=UTC:20190209T100000
DTEND;TZID=UTC:20190209T220000
DTSTAMP:20260423T214548
CREATED:20190126T202322Z
LAST-MODIFIED:20190126T202322Z
UID:560-1549706400-1549749600@www.dmvbanglaevents.com
SUMMARY:Sanskriti Saraswati Pujo 2019
DESCRIPTION:Registration Link: https://sanskriti-dc.org/register-event  \nRegistration Instructions: Login using the above URL. If you wish to pay member rates and are currently not a Life Member\, you need to register first to pay the membership fee and become a member for 2019. Once registered as a member\, you can avail the member rates by using the EVENTS tab at the top of the page to return to the Saraswati Puja registration. \nAlternatively\, you can pay for the Saraswati Puja as a non-member by paying non-member rates. \nRegistration may also be sent by mail. Please write your check to Sanskriti (include a note indicating member or non-member and how many people attending) and mail to Sanskriti treasurer: \nLina Chakrabarti\n14800 Athey Road\nBurtonsville\, MD 20866 \nlina_chak@hotmail.com\n301-801-7779\nNote: Early-bird registration ends January 19\, so please register early \nChildren’s Competition: \nWe request you to encourage your children (Age 14 years or younger) to participate in the drawing and recitation competitions. Here are the details of the competitions. \nThemes for Children’s Drawing Competition (1.00 -2.00 PM): \n5-7 years: My Favorite Pet\n8-10 years: Underwater World\n11-14 years: Reduce-Reuse-Recycle \nNote: No drawing supplies will be provided (only 11×17 inch art paper will be provided by Sanskriti). Please bring your own drawing pencils\, erasers\, coloring pencils\, crayons or other accessories (No water color or paints will be allowed). \nChildren’s Recitation Competition (2:00 – 3:00 PM): \n5-7 years: তালগাছ (Talgach)- রবীন্দ্রনাথ ঠাকুর\n8-10 years: লিচু চোর (Lichu Chor)- কাজী নজরুল ইসলাম\n11-14 years: নিকুঞ্জ নিবাস  (Nikunja Niwas)- অনুপম চক্রবর্তী \nPlease send your kid(s) name (s)\, age group\, and group of competition to us at swapan_sinha@hotmail.com.
URL:https://www.dmvbanglaevents.com/event/sanskriti-saraswati-pujo-2019/
LOCATION:Damascus High School\, 25921 Ridge Rd\, Damascus\, MD\, 20872\, United States
CATEGORIES:কবিতা,গান,সাংস্কৃতিক অনুষ্ঠান
ATTACH;FMTTYPE=image/png:https://www.dmvbanglaevents.com/wp-content/uploads/2019/01/শ.png
ORGANIZER;CN="Sanskriti":MAILTO:info@sanskriti-dc.org
END:VEVENT
BEGIN:VEVENT
DTSTART;TZID=UTC:20181028T160000
DTEND;TZID=UTC:20181028T200000
DTSTAMP:20260423T214548
CREATED:20181024T053616Z
LAST-MODIFIED:20181024T054855Z
UID:383-1540742400-1540756800@www.dmvbanglaevents.com
SUMMARY:An evening with music of the immortals.. by Pratik Chowdhury
DESCRIPTION:
URL:https://www.dmvbanglaevents.com/event/an-evening-with-music-of-the-immortals-by-pratik-chowdhury/
LOCATION:Wyndham Garden Manassas\, 10800 Vandor Ln\, Manassas\, VA\, 20109\, United States
CATEGORIES:গান
ATTACH;FMTTYPE=image/jpeg:https://www.dmvbanglaevents.com/wp-content/uploads/2018/10/even.jpg
END:VEVENT
BEGIN:VEVENT
DTSTART;TZID=UTC:20181026T193000
DTEND;TZID=UTC:20181026T233000
DTSTAMP:20260423T214548
CREATED:20181024T054634Z
LAST-MODIFIED:20181024T054758Z
UID:391-1540582200-1540596600@www.dmvbanglaevents.com
SUMMARY:Bibagi’s Tribute to Ayub Bachu
DESCRIPTION:Join us in a memorable evening to remember and celebrate the life of our rock legend Ayub Bacchu. \nOur live set will include many of his best songs. \nSee you all there to rock with us!
URL:https://www.dmvbanglaevents.com/event/bibagis-tribute-to-ayub-bachu/
LOCATION:Gharer Khabar\, 5157 Lee Highway\, Arlington\, VA\, 22207\, United States
CATEGORIES:গান
ATTACH;FMTTYPE=image/jpeg:https://www.dmvbanglaevents.com/wp-content/uploads/2018/10/bibagi.jpg
END:VEVENT
BEGIN:VEVENT
DTSTART;TZID=UTC:20180804T180000
DTEND;TZID=UTC:20180804T220000
DTSTAMP:20260423T214548
CREATED:20180728T144107Z
LAST-MODIFIED:20180728T144245Z
UID:242-1533405600-1533420000@www.dmvbanglaevents.com
SUMMARY:রবীন্দ্র সঙ্গীত সন্ধ্যা- সালমা আকবর ও সাজেদ আকবর
DESCRIPTION:  \nশিল্পী সালমা আকবর ও সাজেদ আকবর রবীন্দ্র সঙ্গীত ভুবনে একটি অতি পরিচিত নাম। শিল্পী দম্পতি বাংলাদেশ টেলিভিশনসহ বিভিন্ন টিভি চ্যানল এবং বাংলাদেশ বেতারের নিয়মিত শিল্পী। উভয়েই দেশের সাংস্কৃতিক পরিমন্ডলে স্বনামধন্য ব্যক্তিত্ব এবং দেশে বিদেশে অসংখ্য অনুষ্ঠানে রবীন্দ্র সঙ্গীতে পরিবেশন করে শ্রোতা-দর্শকদের মন জয় করে নিয়েছেন। আজ তাদেরই আমরা সাথে পাচ্ছি আয়োজিত এই সঙ্গীত সন্ধ্যায় প্রান ভরে গান শোনার জন্য। আপনাদের সবাইকে এই সুন্দর সঙ্গীত সন্ধ্যায় আমন্ত্রন জানাচ্ছে Bangladesh Association of Greater Washington DC – BAGWDC \n  \nAddress:  \n3514 Woodburn Rd\, Annandale\, VA 22003 \nPlease RSVP: \n703-626-5814\, 571-552-2168\, 7103-944-2389
URL:https://www.dmvbanglaevents.com/event/bagwdc_event_tagore/
LOCATION:MD
CATEGORIES:গান,সাংস্কৃতিক অনুষ্ঠান
ATTACH;FMTTYPE=image/jpeg:https://www.dmvbanglaevents.com/wp-content/uploads/2018/07/BAGWDc1.jpg
ORGANIZER;CN="BAGWDC":MAILTO:bagwdc2017@gmail.com
END:VEVENT
END:VCALENDAR